BEGIN:VCALENDAR
VERSION:2.0
PRODID:-//ChamberMaster//Event Calendar 2.0//EN
METHOD:PUBLISH
X-PUBLISHED-TTL:P3D
REFRESH-INTERVAL:P3D
CALSCALE:GREGORIAN
BEGIN:VEVENT
DTSTART:20140514T160000Z
DTEND:20140515T020000Z
X-MICROSOFT-CDO-ALLDAYEVENT:FALSE
SUMMARY:10th Annual Garden Grove Golf Classic
DESCRIPTION:Join us this year at the 10th Annual Golf Classic by Garden Grove Community Foundation and Garden Grove Chamber of Commerce.\n\n\n\n There will be a Hole-in-One Contest for $20\,000 cash or $25\,000 toward a car from Garden Grove Hyundai or Garden Grove Kia\;  Putting and Long Drive contests\; and awards for 1st\,  2nd and 3rd place teams.\n\n\n\nThere will be unlimited refreshments on the Course courtesy of Louie's on Main Street\, Boxed Lunch courtesy of Lee's Sandwiches and a great Dinner after the Golf Classic courtesy of Outback Steakhouse.  Silent Auction with great gifts\, golf equipment\, golf trips and more.\n\n\n\nAl proceeds benefit the Garden Grove Community Foundation and Garden Grove Chamber of Commerce.  \n\n\n\nSee attached Brochure for more information!
X-ALT-DESC;FMTTYPE=text/html:Join us this year at the&nbsp\;<strong>10th Annual Golf Classic</strong> by Garden Grove Community Foundation and Garden Grove Chamber of Commerce.<br />\n<br />\n&nbsp\;There will be a Hole-in-One Contest for $20\,000 cash or $25\,000 toward a car from Garden Grove Hyundai or Garden Grove Kia\; &nbsp\;Putting and Long Drive contests\; and awards for 1st\, &nbsp\;2nd and 3rd place teams.<br />\n<br />\nThere will be unlimited refreshments on the Course courtesy of Louie&#39\;s on Main Street\, Boxed Lunch courtesy of Lee&#39\;s Sandwiches and a great Dinner after the Golf Classic courtesy of Outback Steakhouse. &nbsp\;Silent Auction with great gifts\, golf equipment\, golf trips and more.<br />\n<br />\nAl proceeds benefit the Garden Grove Community Foundation and Garden Grove Chamber of Commerce. &nbsp\;<br />\n<br />\n<strong>See attached Brochure for more information!</strong><br />\n&nbsp\;
LOCATION:Willowick Golf Course 3017 W. 5th. Street Santa Ana\, CA 92703
UID:e.1315.1464
SEQUENCE:3
DTSTAMP:20260424T160335Z
URL:http://business.gardengrovechamber.com/events/details/10th-annual-garden-grove-golf-classic-05-14-2014-1464
END:VEVENT

END:VCALENDAR
