BEGIN:VCALENDAR
VERSION:2.0
PRODID:-//ChamberMaster//Event Calendar 2.0//EN
METHOD:PUBLISH
X-PUBLISHED-TTL:P3D
REFRESH-INTERVAL:P3D
CALSCALE:GREGORIAN
BEGIN:VEVENT
DTSTART:20170510T160000Z
DTEND:20170511T010000Z
X-MICROSOFT-CDO-ALLDAYEVENT:FALSE
SUMMARY:13th Annual Golf Classic
DESCRIPTION:Proceeds from the Annual Golf Classic benefit the Garden Grove Community Foundation and Garden Grove Chamber of Commerce.\n\n     The Garden Grove Community Foundation strives to improve the quality of life in our community by providing opportunities for people of all ages and cultures to gather together. The Foundation sponsors a variety of special events that entertain\, educate\, motivate\, and inspire Garden Grove residents\, families\, and students.\n\n     The Garden Grove Chamber of Commerce is a voluntary membership organization serving as a link between businesses\, local government\, neighborhood associations and the general public.\n\n     Your support of the 2017 charity Golf Classic joint fundraiser aids both organizations by helping to maintain and expand current programs for:\n\nOur YOUTH: Voice of Garden Grove.\n\nOur BUSINESSES: Educational Lunch and Learn Seminars\, Networking Mixers\, State of the City and State of the County Luncheons.\n\nOur COMMUNITY: Free Summer Concert Series\, Annual Christmas Tree Lighting Celebration at Village Green Park and the Open Streets event.
X-ALT-DESC;FMTTYPE=text/html:&nbsp\;&nbsp\;&nbsp\;&nbsp\; Proceeds from the Annual Golf Classic benefit the Garden Grove Community Foundation and Garden Grove Chamber of Commerce.<br />\n&nbsp\;&nbsp\;&nbsp\;&nbsp\;&nbsp\;The Garden Grove Community Foundation strives to improve the quality of life in our community by providing opportunities for people of all ages and cultures to gather together. The Foundation sponsors a variety of special events that entertain\, educate\, motivate\, and inspire Garden Grove residents\, families\, and students.<br />\n&nbsp\;&nbsp\;&nbsp\;&nbsp\; The Garden Grove Chamber of Commerce is a voluntary membership organization serving as a link between businesses\, local government\, neighborhood associations and the general public.<br />\n&nbsp\;&nbsp\;&nbsp\;&nbsp\; Your support of the 2017 charity Golf Classic joint fundraiser aids both organizations by helping to maintain and expand current programs for:<br />\nOur YOUTH: Voice of Garden Grove.<br />\nOur BUSINESSES: Educational Lunch and Learn Seminars\, Networking Mixers\, State of the City and State of the County Luncheons.<br />\nOur COMMUNITY: Free Summer Concert Series\, Annual Christmas Tree Lighting Celebration at Village Green Park and the Open Streets event.
LOCATION:Willowick Golf Course 3017 West 5th Street Santa Ana\, CA 92703
UID:e.1315.6075
SEQUENCE:3
DTSTAMP:20260420T030326Z
URL:http://business.gardengrovechamber.com/events/details/13th-annual-golf-classic-6075
END:VEVENT

END:VCALENDAR
