BEGIN:VCALENDAR
VERSION:2.0
PRODID:-//ChamberMaster//Event Calendar 2.0//EN
METHOD:PUBLISH
X-PUBLISHED-TTL:P3D
REFRESH-INTERVAL:P3D
CALSCALE:GREGORIAN
BEGIN:VEVENT
DTSTART:20160828T160000Z
DTEND:20160829T010000Z
X-MICROSOFT-CDO-ALLDAYEVENT:FALSE
SUMMARY:17th Annual Elvis Festival
DESCRIPTION:The 17th Annual Elvis Festival themed "The King Lives On" comes to Historic Main Street in Garden Grove for an all day tribute to Elvis Presley on Sunday\, August 28 from 9 a.m. to 6 p.m. It will be held in conjunction with the regular Local Harvest Farmers Market and presented by the Garden Grove Downtown Business Association. Includes Elvis Tribute Artists\, King of Cadillacs Car Show\, Creme de la King Elvis Singing Competition\, Jailhouse Rockers Fan Club\, memorabilia\, strolling entertainment\, contests and vendors.
X-ALT-DESC;FMTTYPE=text/html:The 17th Annual Elvis Festival themed &ldquo\;The King Lives On&rdquo\; comes to Historic Main Street in Garden Grove for an all day tribute to Elvis Presley on Sunday\, August 28 from 9 a.m. to 6 p.m. It will be held in conjunction with the regular Local Harvest Farmers Market and presented by the Garden Grove Downtown Business Association. Includes Elvis Tribute Artists\, King of Cadillacs Car Show\, Creme de la King Elvis Singing Competition\, Jailhouse Rockers Fan Club\, memorabilia\, strolling entertainment\, contests and vendors.
LOCATION:Historic Main Street\, Garden Grove
UID:e.1315.5953
SEQUENCE:3
DTSTAMP:20260420T165010Z
URL:http://business.gardengrovechamber.com/events/details/17th-annual-elvis-festival-08-28-2016-5953
END:VEVENT

END:VCALENDAR
