BEGIN:VCALENDAR
VERSION:2.0
PRODID:-//ChamberMaster//Event Calendar 2.0//EN
METHOD:PUBLISH
X-PUBLISHED-TTL:P3D
REFRESH-INTERVAL:P3D
CALSCALE:GREGORIAN
BEGIN:VEVENT
DTSTART:20170827T160000Z
DTEND:20170828T010000Z
X-MICROSOFT-CDO-ALLDAYEVENT:FALSE
SUMMARY:18th Annual Elvis Festival
DESCRIPTION:All day tribute to the King of Rock 'n' Roll\, Elvis Presley\, takes to Historic Main Street. This year marks the 40th anniversary of Presley's death. The event includes a variety of Elvis tribute artists\, the King of Cadillacs Car Show\, an Elvis theme art contest and exhibition at Black Umbrella Tattoo and Art Gallery\, the Creme de la King Elvis Singing Competition Finals\, Elvis Fan Clubs\, strolling entertainment\, Elvis memorabilia and collectibles in conjunction with the Local Harvest Farmers Market. Main Street restaurants are also participating and will offer special Elvis themed menu items that day.\n\n\n\n9:45 am - Opening Performance\; Kirk Wall\, Festival Ambassador\, featuring Halau Hula Lani Ola Dancers\n\n\n\n10:15 to 11:15 am - Martin Anthony as Elvis\, with Legends Impressionist Danny Jacobson. Elvis sings duets with Frank Sinatra\, Tom Jones\, Dean Martin\, Willie Nelson and many others. Also featuring Kat Ferguson as Ann Margret. \n\n\n\n12:15 to 1:30 pm - Krazy Kirk & The Hillbillies. Kirk Wall sings Bluegrass\, Gospel\, The Beatles and whatever!\n\n\n\n2:00 to 3:15 pm - Scot Bruce & Band\, A Rockin' Tribute to the Kings! (From Sun Records to the Comeback Special)\n\n\n\n3:30 to 5:30 pm - Elvis Singing Competition:Karaoke Scene Magazine Presents KaraokeFest 2017 Creme de la King Finals! KJ-Steven Williamson\n\n    Top 12 Creme de la King Finalist Compete\n\n    Announcement of Creme de la Kings 1st thru 3rd Winners at 5:15 pm.\n\n    1st Place performs again!
X-ALT-DESC;FMTTYPE=text/html:All day tribute to the King of Rock &#39\;n&#39\; Roll\, Elvis Presley\, takes to Historic Main Street. This year marks the 40th anniversary of Presley&#39\;s death. The event includes a variety of Elvis tribute artists\, the King of Cadillacs Car Show\, an Elvis theme art contest and exhibition at Black Umbrella Tattoo and Art Gallery\, the Creme de la King Elvis Singing Competition Finals\, Elvis Fan Clubs\, strolling entertainment\, Elvis memorabilia and collectibles in conjunction with the Local Harvest Farmers Market. Main Street restaurants are also participating and will offer special Elvis themed menu items that day.<br />\n<br />\n9:45 am - Opening Performance\; Kirk Wall\, Festival Ambassador\, featuring Halau Hula Lani Ola Dancers<br />\n<br />\n10:15 to 11:15 am - Martin Anthony as Elvis\, with Legends Impressionist Danny Jacobson. <em>Elvis sings duets with Frank Sinatra\, Tom Jones\, Dean Martin\, Willie Nelson and many others</em>. Also featuring Kat Ferguson as Ann Margret.&nbsp\;<br />\n<br />\n12:15 to 1:30 pm - Krazy Kirk &amp\; The Hillbillies. Kirk Wall sings Bluegrass\, Gospel\, The Beatles and whatever!<br />\n<br />\n2:00 to 3:15 pm - Scot Bruce &amp\; Band\, A Rockin&#39\;&nbsp\;Tribute to the Kings! (From Sun Records to the Comeback Special)<br />\n<br />\n3:30 to 5:30 pm - Elvis Singing Competition:Karaoke Scene Magazine Presents KaraokeFest&nbsp\;2017 Creme de la King Finals! KJ-Steven Williamson<br />\n&nbsp\; &nbsp\; Top 12 Creme de la King Finalist Compete<br />\n&nbsp\; &nbsp\; Announcement of Creme de la Kings 1st thru 3rd Winners at 5:15 pm.<br />\n&nbsp\; &nbsp\; 1st Place performs again!
LOCATION:Historic Main Street
UID:e.1315.6169
SEQUENCE:3
DTSTAMP:20260419T222400Z
URL:http://business.gardengrovechamber.com/events/details/18th-annual-elvis-festival-6169
END:VEVENT

END:VCALENDAR
