BEGIN:VCALENDAR
VERSION:2.0
PRODID:-//ChamberMaster//Event Calendar 2.0//EN
METHOD:PUBLISH
X-PUBLISHED-TTL:P3D
REFRESH-INTERVAL:P3D
CALSCALE:GREGORIAN
BEGIN:VEVENT
DTSTART:20140605T150000Z
DTEND:20140606T003000Z
X-MICROSOFT-CDO-ALLDAYEVENT:FALSE
SUMMARY:2014 Orange County Global Women's Conference
DESCRIPTION:The 2014 Orange County Global Women's Conference is the premier event for development and advancement for women of all ages\, ethnicities\, cultures and backgrounds in Southern California. The conference is a platform committed to diversity\, inclusion\, facilitating the situation of women leaders and progressing feminine\, authentic and global leadership. It will set the stage for understanding how overcoming boundaries leads to innovation\, helps humanity\, the economy and society.\n\nAttendees will learn how our speakers' choices inspired them to achieve results\, grow professionally and have life-changing experiences.  They will learn how others made choices and took the chance to achieve their personal and professional goals. This means that attendees will leave with an increased understanding of the full range of pertinent issues and an increased ability to be the agents of change.\n\nThe OC Global Women's Conference is also a fantastic networking opportunity for women\, allowing them to connect and collaborate with their peers and be inspired by their mentors. This event brings together prominent leaders from different industries\, such as business\, politics\, fashion\, philanthropy\, media\, entertainment and the arts\, in a full day of lively panels.
X-ALT-DESC;FMTTYPE=text/html:<p style="margin: 0px\; padding: 0px 0px 1.4em\; line-height: 1.4em\; font-family: 'Open Sans'\, sans-serif\; font-size: 13px\;"><span style="line-height: 1.4em\; font-size: 10pt\;">The 2014 Orange County Global Women&#39\;s Conference is the premier event for development and advancement for women of all ages\, ethnicities\, cultures and backgrounds in Southern California.&nbsp\;The conference is a platform committed to diversity\, inclusion\, facilitating the situation of women leaders and progressing feminine\, authentic and global leadership.&nbsp\;It will set the stage for understanding how overcoming boundaries leads to innovation\, helps humanity\, the economy and society.</span></p>\n\n<p style="margin: 0px\; padding: 0px 0px 1.4em\; line-height: 1.4em\; font-family: 'Open Sans'\, sans-serif\; font-size: 13px\;"><span style="line-height: 1.4em\; font-size: 10pt\;">Attendees will learn how our speakers&#39\; choices inspired them to achieve results\, grow professionally and have life-changing experiences.&nbsp\; They will learn how others made choices and took the chance to achieve their personal and professional goals.&nbsp\;</span><span style="line-height: 1.4em\; font-size: 10pt\;">This means that attendees will leave with an increased understanding of the full range of pertinent issues and an increased ability to be the agents of change.</span></p>\n\n<p style="margin: 0px\; padding: 0px 0px 1.4em\; line-height: 1.4em\; font-family: 'Open Sans'\, sans-serif\; font-size: 13px\;"><span style="line-height: 1.4em\; font-size: 10pt\;">The OC Global Women&#39\;s Conference is also a fantastic networking opportunity for women\, allowing them to connect and collaborate with their peers and be inspired by their mentors.&nbsp\;<span style="line-height: 1.4em\;">This event brings together prominent leaders from different industries\, such as business\, politics\, fashion\, philanthropy\, media\, entertainment and the arts\, in a full day of lively panels.</span></span></p>\n
LOCATION:Anaheim Hilton 777 W. Convention Way Anaheim\, CA 92802
UID:e.1315.1703
SEQUENCE:3
DTSTAMP:20260424T143322Z
URL:http://business.gardengrovechamber.com/events/details/2014-orange-county-global-women-s-conference-06-05-2014-1703
END:VEVENT

END:VCALENDAR
