BEGIN:VCALENDAR
VERSION:2.0
PRODID:-//ChamberMaster//Event Calendar 2.0//EN
METHOD:PUBLISH
X-PUBLISHED-TTL:P3D
REFRESH-INTERVAL:P3D
CALSCALE:GREGORIAN
BEGIN:VEVENT
DTSTART:20171105T010000Z
DTEND:20171105T040000Z
X-MICROSOFT-CDO-ALLDAYEVENT:FALSE
SUMMARY:2017 Kiwanis Quarterly Poker Cup Tournament
DESCRIPTION:2017 Kiwanis Quarterly Poker Cup Tournament    \n\n\n\nPrizes + T-Shirts for Final Table | Raffle Prizes | 50/50\n\n$40 Buy-In includes Poker+Food+Drink tickets\n\n\n\nPoints will be accumulated and the player with the highest points will be crowned Player of the Year at the end of this tournament.\n\n\n\nKiwanis of Greater Garden Grove has hosted 3 of 4 poker tournaments this year. Each tournament has been dedicated to a specific charity and all proceeds have been donated to that charity. Our final tournament of the year will be dedicated to the Boys & Girls Clubs of Garden Grove.
X-ALT-DESC;FMTTYPE=text/html:2017 Kiwanis Quarterly Poker Cup Tournament&nbsp\;&nbsp\;&nbsp\;&nbsp\;<br />\n<br />\nPrizes + T-Shirts for Final Table | Raffle Prizes | 50/50<br />\n$40 Buy-In includes Poker+Food+Drink tickets<br />\n<br />\nPoints will be accumulated and the player with the highest&nbsp\;points will be crowned Player of the Year at the end of this tournament.<br />\n<br />\nKiwanis of Greater Garden Grove has hosted 3 of 4 poker tournaments this year. Each tournament has been dedicated to a specific charity and all proceeds have been&nbsp\;donated to that charity. Our final tournament of the year will be dedicated to the Boys &amp\; Girls Clubs of Garden Grove.&nbsp\;
LOCATION:KiwanisLand 9840 Larson Avenue Garden Grove\, CA
UID:e.1315.6225
SEQUENCE:3
DTSTAMP:20260419T180211Z
URL:http://business.gardengrovechamber.com/events/details/2017-kiwanis-quarterly-poker-cup-tournament-6225
END:VEVENT

END:VCALENDAR
