BEGIN:VCALENDAR
VERSION:2.0
PRODID:-//ChamberMaster//Event Calendar 2.0//EN
METHOD:PUBLISH
X-PUBLISHED-TTL:P3D
REFRESH-INTERVAL:P3D
CALSCALE:GREGORIAN
BEGIN:VEVENT
DTSTART:20170601T160000Z
DTEND:20170601T190000Z
X-MICROSOFT-CDO-ALLDAYEVENT:FALSE
SUMMARY:2017 South OC Job Fair
DESCRIPTION:The OCDB and Orange County Supervisor Lisa Bartlett invite you to the 2017 South Orange County Job Fair!
X-ALT-DESC;FMTTYPE=text/html:The OCDB and Orange County Supervisor Lisa Bartlett invite you to the 2017 South Orange County Job Fair!&nbsp\;&nbsp\;&nbsp\;&nbsp\;&nbsp\;&nbsp\;&nbsp\;&nbsp\;
LOCATION:Laguna Hills Mall 24155 Laguna Hills Mall Laguna Hills\, CA 92653
UID:e.1315.6153
SEQUENCE:3
DTSTAMP:20260420T012543Z
URL:http://business.gardengrovechamber.com/events/details/2017-south-oc-job-fair-6153
END:VEVENT

END:VCALENDAR
