BEGIN:VCALENDAR
VERSION:2.0
PRODID:-//ChamberMaster//Event Calendar 2.0//EN
METHOD:PUBLISH
X-PUBLISHED-TTL:P3D
REFRESH-INTERVAL:P3D
CALSCALE:GREGORIAN
BEGIN:VEVENT
DTSTART:20141115T180000Z
DTEND:20141116T000000Z
X-MICROSOFT-CDO-ALLDAYEVENT:FALSE
SUMMARY:4th Annual Baskets & Bargains
DESCRIPTION:Assistance League of Garden Grove is having their 4th Annual Baskets & Bargains\, a Holiday extravaganza.  This event is open to the public.  Drop by and see the baskets\, bargains\, baked goods\, jewelry\, and much more!!! There will be tickets available to purchase for a cash drawing.
X-ALT-DESC;FMTTYPE=text/html:<span style="line-height: 20.7999992370605px\;">Assistance League of Garden Grove is having their&nbsp\;</span>4th<span style="line-height: 20.7999992370605px\;">&nbsp\;Annual Baskets &amp\; Bargains\, a Holiday extravaganza. &nbsp\;This event is open to the public. &nbsp\;Drop by and see the baskets\, bargains\, baked goods\, jewelry\, and much more!!! There will be tickets available to purchase for a cash drawing.</span>
LOCATION:Assistance League of Garden Grove 10932 Trask Avenue Garden Grove\, CA 92843
UID:e.1315.2239
SEQUENCE:3
DTSTAMP:20260424T073403Z
URL:http://business.gardengrovechamber.com/events/details/4th-annual-baskets-bargains-11-15-2014-2239
END:VEVENT

END:VCALENDAR
