BEGIN:VCALENDAR
VERSION:2.0
PRODID:-//ChamberMaster//Event Calendar 2.0//EN
METHOD:PUBLISH
X-PUBLISHED-TTL:P3D
REFRESH-INTERVAL:P3D
CALSCALE:GREGORIAN
BEGIN:VEVENT
DTSTART:20150426T201500Z
DTEND:20150426T230000Z
X-MICROSOFT-CDO-ALLDAYEVENT:FALSE
SUMMARY:52nd Annual Silver Spoons Awards Tea
DESCRIPTION:The Women's Division of the Garden Grove Chamber of Commerce is proud\, for the 52nd consecutive year\, to be hosting the Silver Spoons Tea. The Silver Spoon Award was started as a way for the community to honor the top volunteer from the non-profit organization that serve Garden Grove.
X-ALT-DESC;FMTTYPE=text/html:The Women&#39\;s Division of the Garden Grove Chamber of Commerce is proud\, for the 52nd consecutive year\, to be hosting the Silver Spoons Tea. The Silver Spoon Award was started as a way for the community to honor the top volunteer from the non-profit organization that serve Garden Grove.
LOCATION:Anaheim Marriott Suites 12015 Harbor Blvd. Garden Grove\, CA 92840
UID:e.1315.1797
SEQUENCE:3
DTSTAMP:20260424T003122Z
URL:http://business.gardengrovechamber.com/events/details/52nd-annual-silver-spoons-awards-tea-04-26-2015-1797
END:VEVENT

END:VCALENDAR
