BEGIN:VCALENDAR
VERSION:2.0
PRODID:-//ChamberMaster//Event Calendar 2.0//EN
METHOD:PUBLISH
X-PUBLISHED-TTL:P3D
REFRESH-INTERVAL:P3D
CALSCALE:GREGORIAN
BEGIN:VEVENT
DTSTART:20160417T201500Z
DTEND:20160417T230000Z
X-MICROSOFT-CDO-ALLDAYEVENT:FALSE
SUMMARY:53rd Annual Silver Spoons Awards
DESCRIPTION:The Women's Division of the Garden Grove Chamber of Commerce is proud\, for the 53rd consecutive year\, to be hosting the Silver Spoons Awards. The Silver Spoon Award was started as a way for the community to honor the top volunteer from the non-profit organization that serve Garden Grove.
X-ALT-DESC;FMTTYPE=text/html:The Women&#39\;s Division of the Garden Grove Chamber of Commerce is proud\, for the 53rd&nbsp\;consecutive year\, to be hosting the Silver Spoons Awards. The Silver Spoon Award was started as a way for the community to honor the top volunteer from the non-profit organization that serve Garden Grove.
LOCATION:Anaheim Marriott Suites 12015 Harbor Blvd. Garden Grove\, CA 92840
UID:e.1315.5102
SEQUENCE:3
DTSTAMP:20260420T231457Z
URL:http://business.gardengrovechamber.com/events/details/53rd-annual-silver-spoons-awards-04-17-2016-5102
END:VEVENT

END:VCALENDAR
