BEGIN:VCALENDAR
VERSION:2.0
PRODID:-//ChamberMaster//Event Calendar 2.0//EN
METHOD:PUBLISH
X-PUBLISHED-TTL:P3D
REFRESH-INTERVAL:P3D
CALSCALE:GREGORIAN
BEGIN:VEVENT
DTSTART:20140524T150000Z
DTEND:20140524T163000Z
X-MICROSOFT-CDO-ALLDAYEVENT:FALSE
SUMMARY:5K Run at Strawberry Festival
DESCRIPTION:Come and join the fun and get exercise too at the 2014 Strawberry Festival 5K Run which benefits the Sister City Association of Garden Grove and is presented by Next Level Sports Complex.  The run starts at Historic Main Street in Garden Grove.  \n\nThe Strawberry Festival Parade follows after. Pancake Breakfast is included to participants and T-Shirt.  Top three medal categories.\n\n\n\nGo to ggsistercity.org or pacificcoastracetiming.com/events for more information.
X-ALT-DESC;FMTTYPE=text/html:Come and join the fun and get exercise too at the 2014 Strawberry Festival 5K Run which benefits the Sister City Association of Garden Grove and is presented by Next Level Sports Complex. &nbsp\;The run starts at Historic Main Street in Garden Grove. &nbsp\;<br />\nThe Strawberry Festival Parade follows after. Pancake Breakfast is included to participants and T-Shirt. &nbsp\;Top three medal categories.<br />\n<br />\nGo to ggsistercity.org or pacificcoastracetiming.com/events for more information.
LOCATION:Historic Main Street 10971 Garden Grove Blvd. Garden Grove\, CA 92840
UID:e.1315.1498
SEQUENCE:3
DTSTAMP:20260424T160510Z
URL:http://business.gardengrovechamber.com/events/details/5k-run-at-strawberry-festival-05-24-2014-1498
END:VEVENT

END:VCALENDAR
