BEGIN:VCALENDAR
VERSION:2.0
PRODID:-//ChamberMaster//Event Calendar 2.0//EN
METHOD:PUBLISH
X-PUBLISHED-TTL:P3D
REFRESH-INTERVAL:P3D
CALSCALE:GREGORIAN
BEGIN:VEVENT
DTSTART:20150329T140000Z
DTEND:20150329T180000Z
X-MICROSOFT-CDO-ALLDAYEVENT:FALSE
SUMMARY:65th Annual Pancake Breakfast - Garden Grove Host Lions Club
DESCRIPTION:Join the Garden Grove Host Lions Club at their 6th Annual Pancake Breakfast. They will be serving pancakes\, eggs\, sausage\, juice\, coffee and milk.\n\n\n\nAll funds are donated to charities and community service organizations!
X-ALT-DESC;FMTTYPE=text/html:<br />\n<br />\nJoin the <em><strong>Garden Grove Host Lions Club</strong></em> at their <span style="color:#FF0000\;"><em><strong>6th Annual Pancake</strong></em></span> <span style="color:#FF0000\;"><strong><em>Breakfast</em></strong></span>. They will be serving pancakes\, eggs\, sausage\, juice\, coffee and milk.<br />\n<br />\nAll funds are donated to charities and community service organizations!
LOCATION:Kiwanisland Youth Park 9840 Larson Avenue Garden Grove\, CA 92842
UID:e.1315.2662
SEQUENCE:3
DTSTAMP:20260424T020822Z
URL:http://business.gardengrovechamber.com/events/details/65th-annual-pancake-breakfast-garden-grove-host-lions-club-03-29-2015-2662
END:VEVENT

END:VCALENDAR
