BEGIN:VCALENDAR
VERSION:2.0
PRODID:-//ChamberMaster//Event Calendar 2.0//EN
METHOD:PUBLISH
X-PUBLISHED-TTL:P3D
REFRESH-INTERVAL:P3D
CALSCALE:GREGORIAN
BEGIN:VEVENT
DTSTART:20150404T180000Z
DTEND:20150404T210000Z
X-MICROSOFT-CDO-ALLDAYEVENT:FALSE
SUMMARY:7th Annual Eggs-cavation!!!
DESCRIPTION:City of Garden Grove Community Services Department invites you to their 7th Annual Eggs-cavation. There will be egg hunts\, carnival games\, food for purchase\, crafts\, bounce houses and pictures with the Easter Bunny!\n\n\n\nOnly 300 egg hunt tickets available.
X-ALT-DESC;FMTTYPE=text/html:<br />\n<br />\nCity of Garden Grove Community Services Department invites you to their <span style="color:#0000FF\;"><em><strong>7th Annual Eggs-cavation</strong></em></span>. There will be <strong><em>egg hunts\, carnival games\, food for purchase\, crafts\, bounce houses and pictures with the Easter Bunny!</em></strong><br />\n<br />\n<strong>Only 300 egg hunt tickets available.</strong>
LOCATION:Atlantis Play Center 13630 Atlantis Way Garden Grove\, CA 92844
UID:e.1315.2664
SEQUENCE:3
DTSTAMP:20260424T003048Z
URL:http://business.gardengrovechamber.com/events/details/7th-annual-eggs-cavation-04-04-2015-2664
END:VEVENT

END:VCALENDAR
