BEGIN:VCALENDAR
VERSION:2.0
PRODID:-//ChamberMaster//Event Calendar 2.0//EN
METHOD:PUBLISH
X-PUBLISHED-TTL:P3D
REFRESH-INTERVAL:P3D
CALSCALE:GREGORIAN
BEGIN:VEVENT
DTSTART:20170422T160000Z
DTEND:20170422T220000Z
X-MICROSOFT-CDO-ALLDAYEVENT:FALSE
SUMMARY:8th Annual Central County Health Expo
DESCRIPTION:The Office of California State Senator Janet Nguyen is putting on a Health Expo in association with various organizations in the surrounding community. The Health Expo will take place on Saturday\, April 22nd from 9am to 3pm at 12951 Euclid St.\, Garden Grove\, and various Dental and Medical Services as well as Health Screenings will be offered for free.
X-ALT-DESC;FMTTYPE=text/html:The Office of California State Senator Janet Nguyen is putting on a Health Expo in association with various organizations in the surrounding community. The Health Expo will take place on Saturday\, April 22nd from 9am to 3pm at 12951 Euclid St.\, Garden Grove\, and various Dental and Medical Services as well as Health Screenings will be offered for free.&nbsp\;
LOCATION:12951 Euclid Street\, Garden Grove\, CA 92840 At Concorde Career College Corner of Euclid & Garden Grove
UID:e.1315.6142
SEQUENCE:3
DTSTAMP:20260420T043945Z
URL:http://business.gardengrovechamber.com/events/details/8th-annual-central-county-health-expo-6142
END:VEVENT

END:VCALENDAR
