BEGIN:VCALENDAR
VERSION:2.0
PRODID:-//ChamberMaster//Event Calendar 2.0//EN
METHOD:PUBLISH
X-PUBLISHED-TTL:P3D
REFRESH-INTERVAL:P3D
CALSCALE:GREGORIAN
BEGIN:VEVENT
DTSTART:20140508T230000Z
DTEND:20140509T060000Z
X-MICROSOFT-CDO-ALLDAYEVENT:FALSE
SUMMARY:8th Annual Thomas House Golf Tournament & Casino Night
DESCRIPTION:Thomas House's 8th Annual Charity Golf Tournament & Casino Night in Memory of Dee Ascher.  Play some golf\, enjoy cocktails and dinner\, auction and wrap up your evening with Roulette\, Craps\, Black Jack and Texas Hold-Em.
X-ALT-DESC;FMTTYPE=text/html:Thomas House&#39\;s 8th Annual Charity Golf Tournament &amp\; Casino Night in Memory of Dee Ascher. &nbsp\;Play some golf\, enjoy cocktails and dinner\, auction and wrap up your evening with Roulette\, Craps\, Black Jack and Texas Hold-Em. &nbsp\;
LOCATION:Oak Creek Golf Club One Golf Club Drive Irvine\, CA 92618
UID:e.1315.1702
SEQUENCE:3
DTSTAMP:20260424T160508Z
URL:http://business.gardengrovechamber.com/events/details/8th-annual-thomas-house-golf-tournament-casino-night-05-08-2014-1702
END:VEVENT

END:VCALENDAR
