BEGIN:VCALENDAR
VERSION:2.0
PRODID:-//ChamberMaster//Event Calendar 2.0//EN
METHOD:PUBLISH
X-PUBLISHED-TTL:P3D
REFRESH-INTERVAL:P3D
CALSCALE:GREGORIAN
BEGIN:VEVENT
DTSTART:20170415T180000Z
DTEND:20170415T210000Z
X-MICROSOFT-CDO-ALLDAYEVENT:FALSE
SUMMARY:9th Annual Eggs-cavation!!!
DESCRIPTION:It's that time of year for Garden Grove's 9th annual "Eggs-cavation" event on Saturday\, April 15\, 2017\, from 11:00 a.m. to 2:00 p.m.\, at Atlantis Play Center. Atlantis Play Center is located at 13630 Atlantis Way in Garden Grove Park. Only 300 tickets for egg hunt participants are available.\n\nIn addition to an egg hunt\, activities at the event include bounce houses\, carnival games\, arts and crafts\, and pictures with the Easter Bunny. The egg hunts begin at 11:45 a.m.\, and take place by the following age groups:\n\n\n	3 to 4 years old - 11:45 a.m.  Noon\n	5 to 6 years old - 12:15 p.m. - 12:30 p.m.\n	7 to 8 years old - 12:45 p.m.-1:00 p.m.\n	9 to 10 years old - 1:15 p.m.-1:30 p.m.\n\n\nCandy hunts for 2-year-olds and under will be held from 11:30 a.m. to 11:45 a.m.\, and 1:30 p.m. to 1:45 p.m.\n\nTicket prices are $7 for children\, ages 3 to 10\, participating in the egg hunt\, and $2 for spectators\, ages 11 and up. Only cash or credit cards are accepted. There will be no ticket sales at the door.\n\nTicket sales for the Eggs-cavation begin Monday\, March 27\, 2017\, until quantities run out. Tickets may be purchased at the Recreation Counter\, located on the 1st floor of Garden Grove City Hall\, at 11222 Acacia Parkway. To order by phone\, or for more information\, call (714) 741-5200.
X-ALT-DESC;FMTTYPE=text/html:<p style="box-sizing: border-box\; margin: 0px 0px 15px\; color: rgb(102\, 102\, 102)\; font-family: &quot\;Open Sans&quot\;\, sans-serif\;"><span style="color:#000000\;">It&rsquo\;s that time of year for Garden Grove&rsquo\;s 9th annual &ldquo\;Eggs-cavation&rdquo\; event on Saturday\, April 15\, 2017\, from 11:00 a.m. to 2:00 p.m.\, at Atlantis Play Center. Atlantis Play Center is located at 13630 Atlantis Way in Garden Grove Park. Only 300 tickets for egg hunt participants are available.</span></p>\n\n<p style="box-sizing: border-box\; margin: 0px 0px 15px\; color: rgb(102\, 102\, 102)\; font-family: &quot\;Open Sans&quot\;\, sans-serif\;"><span style="color:#000000\;">In addition to an egg hunt\, activities at the event include bounce houses\, carnival games\, arts and crafts\, and pictures with the Easter Bunny. The egg hunts begin at 11:45 a.m.\, and take place by the following age groups:</span></p>\n\n<ol style="box-sizing: border-box\; margin-top: 0px\; margin-bottom: 10px\; color: rgb(102\, 102\, 102)\; font-family: &quot\;Open Sans&quot\;\, sans-serif\;">\n	<li style="box-sizing: border-box\;"><span style="color:#000000\;">3 to 4 years old - 11:45 a.m.&ndash\; Noon</span></li>\n	<li style="box-sizing: border-box\;"><span style="color:#000000\;">5 to 6 years old - 12:15 p.m. - 12:30 p.m.</span></li>\n	<li style="box-sizing: border-box\;"><span style="color:#000000\;">7 to 8 years old - 12:45 p.m.-1:00 p.m.</span></li>\n	<li style="box-sizing: border-box\;"><span style="color:#000000\;">9 to 10 years old - 1:15 p.m.-1:30 p.m.</span></li>\n</ol>\n\n<p style="box-sizing: border-box\; margin: 0px 0px 15px\; color: rgb(102\, 102\, 102)\; font-family: &quot\;Open Sans&quot\;\, sans-serif\;"><span style="color:#000000\;">Candy hunts for 2-year-olds and under will be held from 11:30 a.m. to 11:45 a.m.\, and 1:30 p.m. to 1:45 p.m.</span></p>\n\n<p style="box-sizing: border-box\; margin: 0px 0px 15px\; color: rgb(102\, 102\, 102)\; font-family: &quot\;Open Sans&quot\;\, sans-serif\;"><span style="color:#000000\;">Ticket prices are $7 for children\, ages 3 to 10\, participating in the egg hunt\, and $2 for spectators\, ages 11 and up. Only cash or credit cards are accepted. There will be no ticket sales at the door.</span></p>\n\n<p style="box-sizing: border-box\; margin: 0px 0px 15px\; color: rgb(102\, 102\, 102)\; font-family: &quot\;Open Sans&quot\;\, sans-serif\;"><span style="color:#000000\;">Ticket sales for the Eggs-cavation begin Monday\, March 27\, 2017\, until quantities run out. Tickets may be purchased at the Recreation Counter\, located on the 1st floor of Garden Grove City Hall\, at 11222 Acacia Parkway. To order by phone\, or for more information\, call (714) 741-5200.</span></p>\n
LOCATION:Atlantis Play Center 13630 Atlantis Way Garden Grove\, CA 92844
UID:e.1315.6130
SEQUENCE:3
DTSTAMP:20260420T043653Z
URL:http://business.gardengrovechamber.com/events/details/9th-annual-eggs-cavation-6130
END:VEVENT

END:VCALENDAR
