BEGIN:VCALENDAR
VERSION:2.0
PRODID:-//ChamberMaster//Event Calendar 2.0//EN
METHOD:PUBLISH
X-PUBLISHED-TTL:P3D
REFRESH-INTERVAL:P3D
CALSCALE:GREGORIAN
BEGIN:VEVENT
DTSTART:20140713T003000Z
DTEND:20140713T040000Z
X-MICROSOFT-CDO-ALLDAYEVENT:FALSE
SUMMARY:"A Salute to our Veterans" at our Chamber Gala
DESCRIPTION:Come join us to celebrate our 108th Annual Chamber Gala where we will be honoring our Chamber Member Military Veterans along with honoring our 2014 Man and Woman of the Year and 2014 Large and Small Business of the Year.  We will also have our installation of Chamber Officers.  There will be great food\, drink and entertainment.
X-ALT-DESC;FMTTYPE=text/html:Come join us to celebrate our <strong>108th&nbsp\;Annual Chamber Gala</strong> where we will be honoring our <em>Chamber Member Military Veterans</em> along with honoring our <em>2014</em> <em>Man and Woman of the Year</em> and <em>2014 Large and Small Business of the Year</em>. &nbsp\;We will also have our installation of Chamber Officers. &nbsp\;There will be great food\, drink and entertainment.
LOCATION:Garden Grove Community Center 11300 Stanford Avenue Garden Grove\, CA 92840
UID:e.1315.1495
SEQUENCE:3
DTSTAMP:20260424T130304Z
URL:http://business.gardengrovechamber.com/events/details/a-salute-to-our-veterans-at-our-chamber-gala-07-12-2014-1495
END:VEVENT

END:VCALENDAR
