BEGIN:VCALENDAR
VERSION:2.0
PRODID:-//ChamberMaster//Event Calendar 2.0//EN
METHOD:PUBLISH
X-PUBLISHED-TTL:P3D
REFRESH-INTERVAL:P3D
CALSCALE:GREGORIAN
BEGIN:VEVENT
DTSTART:20180207T020000Z
DTEND:20180207T060000Z
X-MICROSOFT-CDO-ALLDAYEVENT:FALSE
SUMMARY:A Taste of Burma
DESCRIPTION:A Taste of Burma\n\n\n\nFebruary 6\, 2018\n\n\n\nCocktail Hour/Meet and Greet 6:00 pm\n\nDinner 7:00 pm\n\n\n\nPhotos by David Heath\n\nPaintings by Chari Baier\n\nDinner by Chef Banny\n\n\n\nBuy Tickets at eatburma.com/tob\n\n\n\nLocation\n\nIrrawaddy Taste of Burma\n\n7076 Katella Avenue\n\nStanton\, CA 90680\n\n\n\nFrom Irrawaddy:\n\nJoin us as we bring Burma to Southern California with the help of photographer\, David Heath and painter\, Chari Baier. David Heath has traveled to Burma eighteen times to capture its most stunning remote landscapes as well as its friendly inhabitants. While\, Chari Baier recreates some of David's beautiful depictions through the texture of paint\; emphasizing the raw emotion and energy.\n\n\n\nChef Banny has been serving Orange County with his traditional Burmese cooking and truly authentic flavors of Burma\, that has been very much a part of his childhood. For this special occasion\, we will be displaying David's photographs\, Chari's paintings and Chef Banny will be curating authentic dishes from his place of birth\, Burma. To learn more about the event and how to buy tickets please visit eatburma.com/tob\n\n\n\nThe event will start at 6pm with a cocktail hour and meet and greet with the artists David Heath and Chari Baier. Seating for dinner is at 7pm and will include salad\, appetizers\, rice & one main course of your choosing. David's book "Burma: An Enchanted Spirit" will be available for sale and after dinner\, he will be signing copies of his books.
X-ALT-DESC;FMTTYPE=text/html:A Taste of Burma<br />\n<br />\nFebruary 6\, 2018<br />\n<br />\nCocktail Hour/Meet and Greet 6:00 pm<br />\nDinner 7:00 pm<br />\n<br />\nPhotos by David Heath<br />\nPaintings by Chari Baier<br />\nDinner by Chef Banny<br />\n<br />\nBuy Tickets at eatburma.com/tob<br />\n<br />\nLocation<br />\nIrrawaddy Taste of Burma<br />\n7076 Katella Avenue<br />\nStanton\, CA 90680<br />\n<br />\nFrom Irrawaddy:<br />\n<span style="color: rgb(75\, 79\, 86)\; font-family: Helvetica\, Arial\, sans-serif\; font-size: 14px\; background-color: rgb(255\, 255\, 255)\;">Join us as we bring Burma to Southern California with the help of photographer\, David Heath and painter\, Chari Baier. David Heath has traveled to Burma eighteen times to capture its most stunning remote landscapes as well as its friendly inhabitants. While\, Chari Baier recreates some of David&rsquo\;s beautiful depictions through the texture of paint\; emphasizing the raw emotion and energy.</span><br style="color: rgb(75\, 79\, 86)\; font-family: Helvetica\, Arial\, sans-serif\; font-size: 14px\; background-color: rgb(255\, 255\, 255)\;" />\n<br style="color: rgb(75\, 79\, 86)\; font-family: Helvetica\, Arial\, sans-serif\; font-size: 14px\; background-color: rgb(255\, 255\, 255)\;" />\n<span style="color: rgb(75\, 79\, 86)\; font-family: Helvetica\, Arial\, sans-serif\; font-size: 14px\; background-color: rgb(255\, 255\, 255)\;">Chef Banny has been serving Orange County with his traditional Burmese cooking and truly authentic flavors of Burma\, that has been very much a part of his childhood. For this special occasion\, we will be displaying David&rsquo\;s photographs\, Chari&rsquo\;s paintings and Chef Banny will be curating authentic dishes from his place of birth\, Burma. To learn more about the event and how to buy tickets please visit&nbsp\;</span><a data-lynx-mode="async" href="https://l.facebook.com/l.php?u=http%3A%2F%2Featburma.com%2Ftob&amp\;h=ATP6RXZGtla0kqhOREzin4OaqNJ2Fvg2cqmsBaizB64u_gmmGqYHdxXy3gozhnuFcLiGqyWcFihx2CIH79MrXLVccnrrOWQyr4MqDv2qOyYPZiZwYDq6gXcVhxkKoM42y8Nt7YL1cTmqw24fr8dMuavVY3yTcKiGk2D_ijGnKUsw0HLPM9c8nRihvzCretGx0Q" rel="nofollow noopener" style="color: rgb(54\, 88\, 153)\; text-decoration-line: none\; font-family: Helvetica\, Arial\, sans-serif\; font-size: 14px\; background-color: rgb(255\, 255\, 255)\;" target="_blank">eatburma.com/tob</a><br style="color: rgb(75\, 79\, 86)\; font-family: Helvetica\, Arial\, sans-serif\; font-size: 14px\; background-color: rgb(255\, 255\, 255)\;" />\n<br style="color: rgb(75\, 79\, 86)\; font-family: Helvetica\, Arial\, sans-serif\; font-size: 14px\; background-color: rgb(255\, 255\, 255)\;" />\n<span style="color: rgb(75\, 79\, 86)\; font-family: Helvetica\, Arial\, sans-serif\; font-size: 14px\; background-color: rgb(255\, 255\, 255)\;">The event will start at 6pm with a cocktail hour and meet and greet with the artists David Heath and Chari Baier. Seating for dinner is at 7pm and will include salad\, appetizers\, rice &amp\; one main course of your choosing. David&rsquo\;s book &ldquo\;Burma: An Enchanted Spirit&rdquo\; will be available for sale and after dinner\, he will be signing copies of his books.</span>
LOCATION:Irrawaddy Taste of Burma 7076 Katella Avenue Stanton\, CA 90680
UID:e.1315.6258
SEQUENCE:3
DTSTAMP:20260419T150529Z
URL:http://business.gardengrovechamber.com/events/details/a-taste-of-burma-6258
END:VEVENT

END:VCALENDAR
