BEGIN:VCALENDAR
VERSION:2.0
PRODID:-//ChamberMaster//Event Calendar 2.0//EN
METHOD:PUBLISH
X-PUBLISHED-TTL:P3D
REFRESH-INTERVAL:P3D
CALSCALE:GREGORIAN
BEGIN:VEVENT
DTSTART:20130516T003000Z
DTEND:20130516T023000Z
X-MICROSOFT-CDO-ALLDAYEVENT:FALSE
SUMMARY:Acacia Mixer
DESCRIPTION:More Info. to come
X-ALT-DESC;FMTTYPE=text/html:More Info. to come
LOCATION:
UID:e.1315.1171
SEQUENCE:3
DTSTAMP:20260425T120647Z
URL:http://business.gardengrovechamber.com/events/details/acacia-mixer-05-15-2013-1171
END:VEVENT

END:VCALENDAR
