BEGIN:VCALENDAR
VERSION:2.0
PRODID:-//ChamberMaster//Event Calendar 2.0//EN
METHOD:PUBLISH
X-PUBLISHED-TTL:P3D
REFRESH-INTERVAL:P3D
CALSCALE:GREGORIAN
BEGIN:VEVENT
DTSTART:20140213T020000Z
DTEND:20140213T040000Z
X-MICROSOFT-CDO-ALLDAYEVENT:FALSE
SUMMARY:After Hours Social
DESCRIPTION:You are invited to the Anaheim Small Business Organization and the Garden Grove Chamber of Commerce February After Hours Social.  This is a great networking opportunity\, so bring lots of business cards.\n\n\n\nOur sponsor and host for this social is Susie Clisson of West County Goodyear Tire.
X-ALT-DESC;FMTTYPE=text/html:You are invited to the Anaheim Small Business Organization and the Garden Grove Chamber of Commerce&nbsp\;<em><strong>February After Hours Social</strong></em>. &nbsp\;This is a great networking opportunity\, so bring lots of business cards.<br />\n<br />\nOur sponsor and host for this social is Susie Clisson&nbsp\;of West County Goodyear Tire.
LOCATION:West County Goodyear Tire 421 W. Chapman Avenue Anaheim\, CA 92802
UID:e.1315.1467
SEQUENCE:3
DTSTAMP:20260424T204317Z
URL:http://business.gardengrovechamber.com/events/details/after-hours-social-02-12-2014-1467
END:VEVENT

END:VCALENDAR
