BEGIN:VCALENDAR
VERSION:2.0
PRODID:-//ChamberMaster//Event Calendar 2.0//EN
METHOD:PUBLISH
X-PUBLISHED-TTL:P3D
REFRESH-INTERVAL:P3D
CALSCALE:GREGORIAN
BEGIN:VEVENT
DTSTART:20130619T170000Z
DTEND:20130619T220000Z
X-MICROSOFT-CDO-ALLDAYEVENT:FALSE
SUMMARY:Anaheim/OC Job Fair Expo
DESCRIPTION:Make the Connection!
X-ALT-DESC;FMTTYPE=text/html:Make the Connection!
LOCATION:Anaheim Convention Center Exhibit Hall E 800 W. Katella Ave. Anaheim\, CA
UID:e.1315.1173
SEQUENCE:3
DTSTAMP:20260425T103745Z
URL:http://business.gardengrovechamber.com/events/details/anaheim-oc-job-fair-expo-06-19-2013-1173
END:VEVENT

END:VCALENDAR
