BEGIN:VCALENDAR
VERSION:2.0
PRODID:-//ChamberMaster//Event Calendar 2.0//EN
METHOD:PUBLISH
X-PUBLISHED-TTL:P3D
REFRESH-INTERVAL:P3D
CALSCALE:GREGORIAN
BEGIN:VEVENT
DTSTART;VALUE=DATE:20120706
DTEND;VALUE=DATE:20120708
TRANSP:TRANSPARENT
X-MICROSOFT-CDO-ALLDAYEVENT:TRUE
SUMMARY:Annual GG Chamber Retreat
DESCRIPTION:
X-ALT-DESC;FMTTYPE=text/html:
LOCATION:
UID:e.1315.311
SEQUENCE:3
DTSTAMP:20260426T042713Z
URL:http://business.gardengrovechamber.com/events/details/annual-gg-chamber-retreat-07-06-2012-311
END:VEVENT

END:VCALENDAR
