BEGIN:VCALENDAR
VERSION:2.0
PRODID:-//ChamberMaster//Event Calendar 2.0//EN
METHOD:PUBLISH
X-PUBLISHED-TTL:P3D
REFRESH-INTERVAL:P3D
CALSCALE:GREGORIAN
BEGIN:VEVENT
DTSTART:20170504T150000Z
DTEND:20170504T200000Z
X-MICROSOFT-CDO-ALLDAYEVENT:FALSE
SUMMARY:Asian American Pacific Islander Heritage Month Celebration
DESCRIPTION:Join us for an inspirational tribute honoring Asian American and Pacific Islander businesses and community based organizations.
X-ALT-DESC;FMTTYPE=text/html:Join us for an inspirational tribute honoring Asian American and Pacific Islander businesses and community based organizations.
LOCATION:Community Meeting Center - Garden Grove 11300 Stanford Avenue Garden Grove\, CA 92840
UID:e.1315.6139
SEQUENCE:3
DTSTAMP:20260420T030454Z
URL:http://business.gardengrovechamber.com/events/details/asian-american-pacific-islander-heritage-month-celebration-6139
END:VEVENT

END:VCALENDAR
