BEGIN:VCALENDAR
VERSION:2.0
PRODID:-//ChamberMaster//Event Calendar 2.0//EN
METHOD:PUBLISH
X-PUBLISHED-TTL:P3D
REFRESH-INTERVAL:P3D
CALSCALE:GREGORIAN
BEGIN:VEVENT
DTSTART;VALUE=DATE:20170221
DTEND;VALUE=DATE:20170222
TRANSP:TRANSPARENT
X-MICROSOFT-CDO-ALLDAYEVENT:TRUE
SUMMARY:Assistance League of Garden Grove Fundraiser
DESCRIPTION:Fundraiser for the Assistance League of Garden Grove.\n\n\n\nAll Day-Eat in or take out
X-ALT-DESC;FMTTYPE=text/html:Fundraiser for the Assistance League of Garden Grove.<br />\n<br />\nAll Day-Eat in or take out&nbsp\;&nbsp\;&nbsp\;&nbsp\;
LOCATION:Carolina's Italian Restaurant 12045 Chapman Avenue Garden Grove\, CA 714-971-5551
UID:e.1315.6077
SEQUENCE:3
DTSTAMP:20260420T073453Z
URL:http://business.gardengrovechamber.com/events/details/assistance-league-of-garden-grove-fundraiser-6077
END:VEVENT

END:VCALENDAR
