BEGIN:VCALENDAR
VERSION:2.0
PRODID:-//ChamberMaster//Event Calendar 2.0//EN
METHOD:PUBLISH
X-PUBLISHED-TTL:P3D
REFRESH-INTERVAL:P3D
CALSCALE:GREGORIAN
BEGIN:VEVENT
DTSTART:20180208T040000Z
DTEND:20180208T060000Z
X-MICROSOFT-CDO-ALLDAYEVENT:FALSE
SUMMARY:Azteca Restaurant & Lounge Pre-Valentine Dinner Show
DESCRIPTION:Valentine's WarmUp Dinner Ticket Price INCLUDES:\n\nDinner from 7pm with Entree Combinations that YOU select\; unlimited iced tea\, soft drinks\, hot tea or coffee\; taxes and processing fees PLUS two hours of Matt's Magical Motown Melodies from 8-10pm. Performer and server tipping is at the diner's discretion.\n\nGreat selection of beer and alcoholic beverage is available but NOT INCLUDED. Ask your server to start a tab.\n\nReservations will be seated as soon after 7pm as possible.
X-ALT-DESC;FMTTYPE=text/html:<p benton="" font-size:="" helvetica="" letter-spacing:="">Valentine&#39\;s WarmUp Dinner Ticket Price INCLUDES:</p>\n\n<p benton="" font-size:="" helvetica="" letter-spacing:="">Dinner from 7pm with Entree Combinations that YOU select\; unlimited iced tea\, soft drinks\, hot tea or coffee\; taxes and processing fees PLUS two hours of Matt&#39\;s Magical Motown Melodies from 8-10pm. Performer and server tipping is at the diner&#39\;s discretion.</p>\n\n<p benton="" font-size:="" helvetica="" letter-spacing:="">Great selection of beer and alcoholic beverage is available but&nbsp\;NOT&nbsp\;INCLUDED. Ask your server to start a tab.</p>\n\n<p benton="" font-size:="" helvetica="" letter-spacing:="">Reservations will be seated as soon after 7pm as possible.</p>\n
LOCATION:Azteca Restaurant & Lounge 12911 Main Street Garden Grove\, CA 92840
UID:e.1315.6266
SEQUENCE:3
DTSTAMP:20260419T131511Z
URL:http://business.gardengrovechamber.com/events/details/azteca-restaurant-lounge-pre-valentine-dinner-show-6266
END:VEVENT

END:VCALENDAR
