BEGIN:VCALENDAR
VERSION:2.0
PRODID:-//ChamberMaster//Event Calendar 2.0//EN
METHOD:PUBLISH
X-PUBLISHED-TTL:P3D
REFRESH-INTERVAL:P3D
CALSCALE:GREGORIAN
BEGIN:VEVENT
DTSTART;VALUE=DATE:20161013
DTEND;VALUE=DATE:20161016
TRANSP:TRANSPARENT
X-MICROSOFT-CDO-ALLDAYEVENT:TRUE
SUMMARY:Barn and Book Sale!
DESCRIPTION:The Garden Grove Historical Society is holding their Annual Barn & Book Sale on Thursday\, Friday\, and Saturday (October 13\, 14 & 15).\n\n\n\nBooks\, paperbacks\, magazines\, records\, cd's\, dvd's\, audio tapes\, collectibles\, hobby\, crafts\, small appliances\, sewing\, clothing\, housewares\, furniture\, fabric\, tools\, artifacts and much more treasures!\n\n\n\nAll proceeds benefits Museum Restoration and Development.
X-ALT-DESC;FMTTYPE=text/html:The Garden Grove Historical Society is holding their Annual Barn &amp\; Book Sale on Thursday\, Friday\, and Saturday (October 13\, 14 &amp\; 15).<br />\n<br />\nBooks\, paperbacks\, magazines\, records\, cd&#39\;s\, dvd&#39\;s\, audio tapes\, collectibles\, hobby\, crafts\, small appliances\, sewing\, clothing\, housewares\, furniture\, fabric\, tools\, artifacts and much more treasures!<br />\n<br />\nAll proceeds benefits Museum Restoration and Development.&nbsp\;
LOCATION:Garden Grove Historical Society 12174 Euclid Street Garden Grove\, CA
UID:e.1315.6008
SEQUENCE:3
DTSTAMP:20260420T133311Z
URL:http://business.gardengrovechamber.com/events/details/barn-and-book-sale-6008
END:VEVENT

END:VCALENDAR
