BEGIN:VCALENDAR
VERSION:2.0
PRODID:-//ChamberMaster//Event Calendar 2.0//EN
METHOD:PUBLISH
X-PUBLISHED-TTL:P3D
REFRESH-INTERVAL:P3D
CALSCALE:GREGORIAN
BEGIN:VEVENT
DTSTART:20171118T180000Z
DTEND:20171119T000000Z
X-MICROSOFT-CDO-ALLDAYEVENT:FALSE
SUMMARY:Baskets & Bargains - Assistance League of Garden Grove
DESCRIPTION:* Baskets & Bargains * \n\nThe Assistance League's Annual Shopping Bonanza!\n\n\n\nGrand Prize $1000 cash\n\n2nd Prize $500 cash\n\nDonations:\n\n    1 Ticket $3.00    \n\n    2 Tickets $5.00\n\n    5 Tickets $10.00\n\n    15 Tickets $20.00\n\n\n\nWinner need not be present to win\n\n\n\nJoin us for this fun free event!\n\n\n\nBaskets\, Bargains\, Collectibles\, Christmas Items\, Bake Sale\, Housewares\, Gift Certificates\, Plants\, Books\, Glassware\, Toys\, Silent AuctionPrizes\, Vendors\, Light Refreshments\, Prizes\n\n\n\nDrawings to held at 3:00 pm on Saturday\, November 18\, 2017
X-ALT-DESC;FMTTYPE=text/html:* Baskets &amp\; Bargains *&nbsp\;<br />\nThe Assistance League&#39\;s Annual Shopping Bonanza!<br />\n<br />\nGrand Prize $1000 cash<br />\n2nd Prize $500 cash<br />\nDonations:<br />\n&nbsp\;&nbsp\;&nbsp\;&nbsp\;1 Ticket $3.00&nbsp\;&nbsp\;&nbsp\;&nbsp\;<br />\n&nbsp\;&nbsp\;&nbsp\;&nbsp\;2 Tickets $5.00<br />\n&nbsp\;&nbsp\;&nbsp\;&nbsp\;5 Tickets $10.00<br />\n&nbsp\; &nbsp\; 15 Tickets $20.00<br />\n<br />\nWinner need not be present to win<br />\n<br />\nJoin us for this fun free event!<br />\n<br />\nBaskets\, Bargains\, Collectibles\, Christmas Items\, Bake Sale\, Housewares\,&nbsp\;Gift Certificates\, Plants\, Books\, Glassware\, Toys\, Silent AuctionPrizes\, Vendors\, Light Refreshments\, Prizes<br />\n<br />\nDrawings to held at 3:00 pm on Saturday\,&nbsp\;November 18\, 2017
LOCATION:10932 Trask Avenue Garden Grove\, CA 92843
UID:e.1315.6242
SEQUENCE:3
DTSTAMP:20260419T181202Z
URL:http://business.gardengrovechamber.com/events/details/baskets-bargains-assistance-league-of-garden-grove-6242
END:VEVENT

END:VCALENDAR
