BEGIN:VCALENDAR
VERSION:2.0
PRODID:-//ChamberMaster//Event Calendar 2.0//EN
METHOD:PUBLISH
X-PUBLISHED-TTL:P3D
REFRESH-INTERVAL:P3D
CALSCALE:GREGORIAN
BEGIN:VEVENT
DTSTART:20150511T200000Z
DTEND:20150512T021500Z
X-MICROSOFT-CDO-ALLDAYEVENT:FALSE
SUMMARY:Blood Drive at the Elks Garden Grove
DESCRIPTION:Elk's Lodge Garden Grove\n\nSponsored by the Emblem Club\n\n \n\nAll participants will receive two free tickets to the Grammy Museum\n\n($5.00 processing fee each) and a coupon for a Buy One Get One Free offer from Quiznos.  All participants will also receive a voucher for two (2) tickets to an LA Galaxy Game ($20.00 processing fee) subject to availability and exclusive admission for two (with a two beverage minimum) to the Hollywood and Long Beach Laugh Factory\n\n\n\nMonday\, May 11\, 2015\n\n1:00 PM   7:15 PM\n\nLocation: 11551 Trask Avenue  Garden Grove\n\n \n\nTo schedule your appointment or for more information\, go online toredcrossblood.org Use Sponsor Code: elksgg or with your Emblem Club.
X-ALT-DESC;FMTTYPE=text/html:<strong><u><span style="color:black\;"><span style="font-family:arial\,sans-serif\;"><span style="font-size:24pt\;">Elk&rsquo\;s Lodge Garden Grove</span></span></span></u></strong><br />\n<strong><span style="color:black\;"><span style="font-family:arial\,sans-serif\;"><span style="font-size:24pt\;">Sponsored by the Emblem Club</span></span></span></strong><br />\n&nbsp\;<br />\n<strong><span style="font-family:arial\,sans-serif\;"><span style="font-size:9pt\;">All participants will receive two free tickets to the Grammy Museum</span></span></strong><br />\n<strong><span style="font-family:arial\,sans-serif\;"><span style="font-size:9pt\;">($5.00 processing fee each) and a coupon for a Buy One Get One Free offer from Quiznos.&nbsp\; All participants will also receive a voucher for two (2) tickets to an LA Galaxy Game ($20.00 processing fee) subject to availability and exclusive admission for two (with a two beverage minimum) to the Hollywood and Long Beach Laugh Factory</span></span></strong><br />\n<br />\n<strong><span style="color:red\;"><span style="font-family:arial\,sans-serif\;"><span style="font-size:18pt\;"><span data-term="goog_1539310585" style="border-bottom-width:1px\;border-bottom-style:dashed\;position:relative\;top:-2px\;z-index:0\;" tabindex="0"><span style="position:relative\;top:2px\;z-index:-1\;">Monday\, May 11\, 2015</span></span></span></span></span></strong><br />\n<strong><span style="color:red\;"><span style="font-family:arial\,sans-serif\;"><span style="font-size:18pt\;"><span data-term="goog_1539310586" style="border-bottom-width:1px\;border-bottom-style:dashed\;position:relative\;top:-2px\;z-index:0\;" tabindex="0"><span style="position:relative\;top:2px\;z-index:-1\;">1:00 PM &ndash\; 7:15 PM</span></span></span></span></span></strong><br />\n<strong><span style="color:red\;"><span style="font-family:arial\,sans-serif\;"><span style="font-size:18pt\;">Location: 11551 Trask Avenue&nbsp\; Garden Grove</span></span></span></strong><br />\n&nbsp\;<br />\n<strong><span style="color:black\;"><span style="font-family:arial\,sans-serif\;"><span style="font-size:14pt\;">To schedule your appointment or for more information\, go online to<a href="http://redcrossblood.org/" style="color:rgb(17\, 85\, 204)\;" target="_blank">redcrossblood.org</a>&nbsp\;Use Sponsor Code:&nbsp\;</span></span></span></strong><strong><span style="color:red\;"><span style="font-family:arial\,sans-serif\;"><span style="font-size:14pt\;">elksgg</span></span></span></strong><strong><span style="color:black\;"><span style="font-family:arial\,sans-serif\;"><span style="font-size:14pt\;">&nbsp\;or with your Emblem Club.</span></span></span></strong><br />\n&nbsp\;<br />\n&nbsp\;
LOCATION:11551 Trask Avenue Garden Grove\, CA
UID:e.1315.2934
SEQUENCE:3
DTSTAMP:20260423T222609Z
URL:http://business.gardengrovechamber.com/events/details/blood-drive-at-the-elks-garden-grove-05-11-2015-2934
END:VEVENT

END:VCALENDAR
