BEGIN:VCALENDAR
VERSION:2.0
PRODID:-//ChamberMaster//Event Calendar 2.0//EN
METHOD:PUBLISH
X-PUBLISHED-TTL:P3D
REFRESH-INTERVAL:P3D
CALSCALE:GREGORIAN
BEGIN:VEVENT
DTSTART:20160916T010000Z
DTEND:20160916T033000Z
X-MICROSOFT-CDO-ALLDAYEVENT:FALSE
SUMMARY:Bowling Tournament
DESCRIPTION:Come join us and register a team today at our Annual Employee Appreciation Bowling Tournament. There will be lots of fun\, food\, and a silent auction. Awards for first\, second\, and third place teams. We will have awards for best dress team\, most spirited and best team name.\n\n\n\nIf you would like to donate items for our gift bags or for the Silent Auction please contact us at 714-638-7950
X-ALT-DESC;FMTTYPE=text/html:Come join us and register a team today at our<strong> Annual Employee Appreciation Bowling Tournament.</strong>&nbsp\;There will be lots of fun\, food\, and a silent auction. Awards for first\, second\, and third place teams. We will have awards for best dress team\, most spirited and best team name.<br />\n<br />\nIf you would like to donate items for our gift bags or for the Silent Auction please contact us at 714-638-7950
LOCATION:AMF Valley View Lanes 12141 Valley View Street Garden Grove\, CA 92845
UID:e.1315.5965
SEQUENCE:3
DTSTAMP:20260420T150930Z
URL:http://business.gardengrovechamber.com/events/details/bowling-tournament-09-15-2016-5965
END:VEVENT

END:VCALENDAR
