BEGIN:VCALENDAR
VERSION:2.0
PRODID:-//ChamberMaster//Event Calendar 2.0//EN
METHOD:PUBLISH
X-PUBLISHED-TTL:P3D
REFRESH-INTERVAL:P3D
CALSCALE:GREGORIAN
BEGIN:VEVENT
DTSTART:20160217T013000Z
DTEND:20160217T033000Z
X-MICROSOFT-CDO-ALLDAYEVENT:FALSE
SUMMARY:Breastlink Medical Group Ribbon Cutting Ceremony 2-16-16
DESCRIPTION:Please join us in welcoming Breastlink Medical Group to Garden Grove on Tuesday\, February 16\, with a Ribbon Cutting Ceremony. There will be hors d'oeuvres\, wine\, and dessert. Be sure to bring your business cards to this Grand Opening Celebration!
X-ALT-DESC;FMTTYPE=text/html:Please join us in welcoming Breastlink Medical Group to Garden Grove on Tuesday\, February&nbsp\;16\, with a Ribbon Cutting Ceremony. There will be hors d&#39\;oeuvres\, wine\, and dessert. Be sure to bring your business cards to this Grand Opening Celebration!<br />\n&nbsp\;
LOCATION:9191 Westminster Avenue Suites 105 & 210 Garden Grove\, CA 92844
UID:e.1315.4969
SEQUENCE:3
DTSTAMP:20260421T023530Z
URL:http://business.gardengrovechamber.com/events/details/breastlink-medical-group-ribbon-cutting-ceremony-2-16-16-02-16-2016-4969
END:VEVENT

END:VCALENDAR
