BEGIN:VCALENDAR
VERSION:2.0
PRODID:-//ChamberMaster//Event Calendar 2.0//EN
METHOD:PUBLISH
X-PUBLISHED-TTL:P3D
REFRESH-INTERVAL:P3D
CALSCALE:GREGORIAN
BEGIN:VEVENT
DTSTART:20141019T020000Z
DTEND:20141019T060000Z
X-MICROSOFT-CDO-ALLDAYEVENT:FALSE
SUMMARY:Bruce Beauchamp/Gregg Crawford Memorial Poker Tournament
DESCRIPTION:Advance Ticket Sales Only for the Bruce Beauchamp/Gregg Crawford Memorial Poker Tournament\, two of our long standing members.  This event is hosted by the Garden Grove Host Lions Club.  There will be food\, drink\, raffle and cash bar.
X-ALT-DESC;FMTTYPE=text/html:<u><strong>Advance Ticket Sales Only</strong></u> for the <strong><em>Bruce Beauchamp/Gregg Crawford Memorial Poker Tournament\,</em></strong> two of our long standing members. <strong><em>&nbsp\;</em></strong>This event is hosted by the Garden Grove Host Lions Club. &nbsp\;There will be food\, drink\, raffle and cash bar.
LOCATION:Garden Grove Lions Club 9860 Larson Avenue Garden Grove\, CA 92844
UID:e.1315.2099
SEQUENCE:3
DTSTAMP:20260424T085938Z
URL:http://business.gardengrovechamber.com/events/details/bruce-beauchamp-gregg-crawford-memorial-poker-tournament-10-18-2014-2099
END:VEVENT

END:VCALENDAR
