BEGIN:VCALENDAR
VERSION:2.0
PRODID:-//ChamberMaster//Event Calendar 2.0//EN
METHOD:PUBLISH
X-PUBLISHED-TTL:P3D
REFRESH-INTERVAL:P3D
CALSCALE:GREGORIAN
BEGIN:VEVENT
DTSTART:20120814T163000Z
DTEND:20120814T173000Z
X-MICROSOFT-CDO-ALLDAYEVENT:FALSE
SUMMARY:Business & Education Committee Meeting
DESCRIPTION:
X-ALT-DESC;FMTTYPE=text/html:
LOCATION:Garden Grove Chamber Office 12866 Main St. #102 Garden Grove\, CA 92840
UID:e.1315.509
SEQUENCE:3
DTSTAMP:20260426T025428Z
URL:http://business.gardengrovechamber.com/events/details/business-education-committee-meeting-08-14-2012-509
END:VEVENT

END:VCALENDAR
