BEGIN:VCALENDAR
VERSION:2.0
PRODID:-//ChamberMaster//Event Calendar 2.0//EN
METHOD:PUBLISH
X-PUBLISHED-TTL:P3D
REFRESH-INTERVAL:P3D
CALSCALE:GREGORIAN
BEGIN:VEVENT
DTSTART;VALUE=DATE:20161101
DTEND;VALUE=DATE:20161102
TRANSP:TRANSPARENT
X-MICROSOFT-CDO-ALLDAYEVENT:TRUE
SUMMARY:Business Savings Day - Sam's Club
DESCRIPTION:Exclusive Offers just for you\n\nOne Day Only\n\n20% off Marathon Products
X-ALT-DESC;FMTTYPE=text/html:Exclusive Offers just for you<br />\nOne Day Only<br />\n20% off Marathon Products
LOCATION:Sam's Club 12540 Beach Blvd. Stanton\, CA 90680
UID:e.1315.6033
SEQUENCE:3
DTSTAMP:20260420T115908Z
URL:http://business.gardengrovechamber.com/events/details/business-savings-day-sam-s-club-6033
END:VEVENT

END:VCALENDAR
