BEGIN:VCALENDAR
VERSION:2.0
PRODID:-//ChamberMaster//Event Calendar 2.0//EN
METHOD:PUBLISH
X-PUBLISHED-TTL:P3D
REFRESH-INTERVAL:P3D
CALSCALE:GREGORIAN
BEGIN:VEVENT
DTSTART:20170809T142000Z
DTEND:20170809T153000Z
X-MICROSOFT-CDO-ALLDAYEVENT:FALSE
SUMMARY:Business to Business Breakfast Meeting
DESCRIPTION:Business to Business Breakfast Meetings is an opportunity to hear from three different Chamber Members. They will each give a 10 minute pitch about what their business can offer you. \n\n\n\nThis meeting we will hear from:\n\n\n\nRobert Emanuel of Debello Agency LLC\,  "Digital Marketing 2017\, Strategies & Tactics that really will work for you"\n\n\n\nBarbara Logue-Barish of The Leukemia & Lymphoma Society\, "Cancer in the Workplace"\n\n\n\nJon Glant of Edward Jones\, "Financial Planning"\n\n\n\nBring plenty of your business cards and to further promote your business\, bring a door prize!
X-ALT-DESC;FMTTYPE=text/html:Business to Business Breakfast Meetings is an opportunity to hear from three different Chamber Members. They will each give a 10 minute pitch about what their business can offer you.&nbsp\;<br />\n<br />\nThis meeting we will hear from:<br />\n<br />\nRobert Emanuel of Debello Agency LLC\,&nbsp\;&nbsp\;&quot\;Digital Marketing 2017\, Strategies &amp\; Tactics that really will work for you&quot\;<br />\n<br />\nBarbara Logue-Barish of The Leukemia &amp\; Lymphoma Society\, &quot\;Cancer in the Workplace&quot\;<br />\n<br />\nJon Glant of Edward Jones\, &quot\;Financial Planning&quot\;<br />\n<br />\nBring plenty of your business cards and to further promote your business\, bring a door prize!
LOCATION:Coco's Bakery Restaurant 12032 Harbor Blvd.\, Garden Grove\, CA 92840
UID:e.1315.6165
SEQUENCE:3
DTSTAMP:20260420T000306Z
URL:http://business.gardengrovechamber.com/events/details/business-to-business-breakfast-meeting-6165
END:VEVENT

END:VCALENDAR
