BEGIN:VCALENDAR
VERSION:2.0
PRODID:-//ChamberMaster//Event Calendar 2.0//EN
METHOD:PUBLISH
X-PUBLISHED-TTL:P3D
REFRESH-INTERVAL:P3D
CALSCALE:GREGORIAN
BEGIN:VEVENT
DTSTART:20160627T010000Z
DTEND:20160627T050000Z
X-MICROSOFT-CDO-ALLDAYEVENT:FALSE
SUMMARY:Bye Bye Birdie presented by Garden Grove Rotary
DESCRIPTION:We at the Garden Grove Rotary Club are pleased to announce that this year's Gem Theatre fundraising production will be their own original rendition of the acclaimed Broadway musical and 1963 motion picture Bye\,Bye Birdie (https://www.youtube.com/watch?v=9t_mAyHZ9Is)!  Through the generosity and community spirit of Damian and Nicole\, the Gem Theatre will again open its doors to our Club\, its members and their friends and family to yet another really great show\, and all in the name of giving back to our community!\n\nProceeds from this event will once again be dedicated towards our own local Garden Grove Rotarian projects such as the elementary and high school scholarship programs\, children's literacy project\, ongoing placement of cardiac defibrillators in public places\, our yearly Christmas toy drive for disadvantaged kids\, the Anyang Foreign Exchange Student program as well as our ongoing goodwill humanitarian projects in both Korea and Mexico\, including our involvement and contributions to the Rotary worldwide End Polio Now campaign.  Please see our website: http://gardengroverotary.org/ \, our facebook page: https://www.facebook.com/Garden-Grove-Rotary-Club-District-5320-371476159717127/\,  along with Rotary International's website: https://www.rotary.org/ for more information as to what we do here at home and in communities all around the world.
X-ALT-DESC;FMTTYPE=text/html:<span style="font-size:14px\;"><span style="font-family:arial\;">We at the Garden Grove Rotary Club are pleased to announce that this year&rsquo\;s Gem Theatre fundraising production will be their own original rendition of the acclaimed Broadway musical and 1963 motion picture <strong>Bye\,Bye Birdie (<a href="https://www.youtube.com/watch?v=9t_mAyHZ9Is"><span style="font-weight:normal\;">https://www.youtube.com/watch?v=9t_mAyHZ9Is</span></a>)!&nbsp\; </strong>Through the generosity and community spirit of Damian and Nicole\, the Gem Theatre will again open its doors to our Club\, its members and their friends and family to yet another really great show\, and all in the name of giving back to our community!<br />\nProceeds from this event will once again be dedicated towards our own local Garden Grove Rotarian projects such as the elementary and high school scholarship programs\, children&#39\;s literacy project\, ongoing placement of cardiac defibrillators in public places\, our yearly Christmas toy drive for disadvantaged kids\, the Anyang Foreign Exchange Student program as well as our ongoing goodwill humanitarian projects in both Korea and Mexico\, including our involvement and contributions to the Rotary worldwide End Polio Now campaign.&nbsp\; Please see our website: <a href="http://gardengroverotary.org/">http://gardengroverotary.org/</a> \, our facebook page: <a href="https://www.facebook.com/Garden-Grove-Rotary-Club-District-5320-371476159717127/">https://www.facebook.com/Garden-Grove-Rotary-Club-District-5320-371476159717127/</a>\, &nbsp\;along with Rotary International&rsquo\;s website: <a href="https://www.rotary.org/">https://www.rotary.org/</a> for more information as to what we do here at home and in communities all around the world.</span></span>
LOCATION:The Gem Theatre 12852 Main Street\, Garden Grove\, CA 92840
UID:e.1315.5703
SEQUENCE:3
DTSTAMP:20260420T200737Z
URL:http://business.gardengrovechamber.com/events/details/bye-bye-birdie-presented-by-garden-grove-rotary-06-26-2016-5703
END:VEVENT

END:VCALENDAR
