BEGIN:VCALENDAR
VERSION:2.0
PRODID:-//ChamberMaster//Event Calendar 2.0//EN
METHOD:PUBLISH
X-PUBLISHED-TTL:P3D
REFRESH-INTERVAL:P3D
CALSCALE:GREGORIAN
BEGIN:VEVENT
DTSTART:20160423T153000Z
DTEND:20160423T190000Z
X-MICROSOFT-CDO-ALLDAYEVENT:FALSE
SUMMARY:Calling All Volunteers!
DESCRIPTION:Come join volunteers from Southern California Edison\, Garden Grove Chamber of Commerce\, Westminster Chamber of commerce\, Korean American Chamber of Commerce of Orange County\, and Vietnamese Chamber of Commerce!
X-ALT-DESC;FMTTYPE=text/html:Come join volunteers from Southern California Edison\, Garden Grove Chamber of Commerce\, Westminster Chamber of commerce\, Korean American Chamber of Commerce of Orange County\, and Vietnamese Chamber of Commerce!&nbsp\;&nbsp\;&nbsp\;&nbsp\;&nbsp\;&nbsp\;&nbsp\;&nbsp\;&nbsp\;&nbsp\;&nbsp\;&nbsp\;
LOCATION:Westminster SSID Service Center 7400 Fenwick Lane\, Wesminster\, CA 92683
UID:e.1315.5395
SEQUENCE:3
DTSTAMP:20260420T231455Z
URL:http://business.gardengrovechamber.com/events/details/calling-all-volunteers-04-23-2016-5395
END:VEVENT

END:VCALENDAR
