BEGIN:VCALENDAR
VERSION:2.0
PRODID:-//ChamberMaster//Event Calendar 2.0//EN
METHOD:PUBLISH
X-PUBLISHED-TTL:P3D
REFRESH-INTERVAL:P3D
CALSCALE:GREGORIAN
BEGIN:VEVENT
DTSTART:20160414T233000Z
DTEND:20160415T033000Z
X-MICROSOFT-CDO-ALLDAYEVENT:FALSE
SUMMARY:Candidates Forum
DESCRIPTION:Meet some of our local candidates for Congress and Board of Supervisors and hear their views on business issues.
X-ALT-DESC;FMTTYPE=text/html:Meet some of our local candidates for Congress and Board of Supervisors and hear their views on business issues.
LOCATION:Santa College Phillips Hall 1530 W. 175h Street Santa Ana\, CA 92706
UID:e.1315.5125
SEQUENCE:3
DTSTAMP:20260420T231415Z
URL:http://business.gardengrovechamber.com/events/details/candidates-forum-04-14-2016-5125
END:VEVENT

END:VCALENDAR
