BEGIN:VCALENDAR
VERSION:2.0
PRODID:-//ChamberMaster//Event Calendar 2.0//EN
METHOD:PUBLISH
X-PUBLISHED-TTL:P3D
REFRESH-INTERVAL:P3D
CALSCALE:GREGORIAN
BEGIN:VEVENT
DTSTART:20171101T140000Z
DTEND:20171116T003000Z
X-MICROSOFT-CDO-ALLDAYEVENT:FALSE
SUMMARY:Canned Food Drive
DESCRIPTION:Push Innovation\n\nCanned Food Drive\n\nProudly in Support of \n\nHope for the Holidays\n\nA program of Community Action Partnership of Orange County\n\nProviding Support for Families during the Holidays and Throughout the Year\n\n\nPush Innovation is proud to support this wonderful organization during an important time of need\, the upcoming Thanksgiving Holiday. Please drop off any canned or non-perishable food or packaged hygiene products between:\n\n \nNovember 1-15 from\n\n7:00 am to 4:30 pm \n\nat\n\n14520 Delta Lane #105\n\nHungtington Beach\, CA 92647\n\n*Look for the display boxes inside the lobby\n\n\nThank you for your support\, kindness\, and help during this Holiday Season.\n\n\n\nFor additional info or questions\, please contact Scott Lenhoff\, General Manager\, at (805) 503-0538 or at scott.lenhoff@pushinnovation.com\n\n\n\nPush Innovation is hosting this food drive for OC Food Bank\, which is a program of CAPOC who is a chamber member.
X-ALT-DESC;FMTTYPE=text/html:<div style="text-align: center\;">Push Innovation<br />\nCanned Food Drive<br />\nProudly in Support of&nbsp\;<br />\nHope for the Holidays<br />\n<em>A program of Community Action Partnership of Orange County</em><br />\nProviding Support for Families during the Holidays and Throughout the Year</div>\n<br />\nPush Innovation is proud to support this wonderful organization during an important time of need\, the upcoming Thanksgiving Holiday. Please drop off any canned or non-perishable food or packaged hygiene products between:<br />\n&nbsp\;\n<div style="text-align: center\;">November 1-15 from<br />\n7:00 am to 4:30 pm&nbsp\;<br />\nat<br />\n14520 Delta Lane #105<br />\nHungtington Beach\, CA 92647<br />\n*<em>Look for the display boxes inside the lobby</em></div>\n<br />\nThank you for your support\, kindness\, and help during this Holiday Season.<br />\n<br />\nFor additional info or questions\, please contact Scott Lenhoff\, General Manager\, at (805) 503-0538 or at scott.lenhoff@pushinnovation.com<br />\n<br />\nPush Innovation is hosting this food drive for OC Food Bank\, which is a program of CAPOC who is a chamber member.&nbsp\;
LOCATION:14520 Delta Lane #105 Huntington Beach\, CA 92647
UID:e.1315.6232
SEQUENCE:3
DTSTAMP:20260419T193537Z
URL:http://business.gardengrovechamber.com/events/details/canned-food-drive-6232
END:VEVENT

END:VCALENDAR
