BEGIN:VCALENDAR
VERSION:2.0
PRODID:-//ChamberMaster//Event Calendar 2.0//EN
METHOD:PUBLISH
X-PUBLISHED-TTL:P3D
REFRESH-INTERVAL:P3D
CALSCALE:GREGORIAN
BEGIN:VEVENT
DTSTART:20120721T200000Z
DTEND:20120721T210000Z
X-MICROSOFT-CDO-ALLDAYEVENT:FALSE
SUMMARY:Capt. John P. Gaffaney Memorial
DESCRIPTION:The 807th Medical Command of the U.S. Army Reserve invites the public to the memorialization of the Garden Grove Army Reserve Center in honor of Captain John A. Gaffaney.\n\n		\n\n		Captain John A. Gaffaney was killed on Nov. 5\, 2009\, in the infamous shooting at Fort Hood\, Texas. Gaffaney was fatally wounded when he tried to disarm the assailant by throwing a folding chair at him during the attack. He was posthumously awarded the Soldier's Medal for his heroic actions.\n\n		\n\n		Gaffaney\, a resident of San Diego\, had served over 20 years in the California National Guard and U.S. Navy\, and had retired from military service. He rejoined the armed forces in the Army Reserve to deploy to Iraq as a psychiatric nurse.\n\n		\n\n		Gaffaney's name is among the 13 people on a memorial stone in the memorial garden at Fort Hood\, and one of five Army Reserve Soldiers killed in the attack. \n\n		\n\n		For his heroism and the example he set with his actions both on Nov. 5 and throughout his career\, the 2nd Medical Brigade of the 807th Medical Command\, requested that the Army Reserve Center in Garden Grove be dedicated as a memorial to Gaffaney. The center is home to six medical units of the 807th Medical Command.
X-ALT-DESC;FMTTYPE=text/html:<div style="color: gray">\n	<p align="left">\n		<span style="color: #000000"><font face="MinionPro-Regular">The 807th Medical Command of the U.S. Army Reserve invites the public to the memorialization of the Garden Grove Army Reserve Center in honor of Captain John A. Gaffaney.<br />\n		<br />\n		Captain John A. Gaffaney was killed on Nov. 5\, 2009\, in the infamous shooting at Fort Hood\, Texas. Gaffaney was </font><font face="MinionPro-Regular">fatally wounded when he tried to disarm the assailant by throwing a folding chair at him during the attack. He was </font><font face="MinionPro-Regular">posthumously awarded the Soldier&rsquo\;s Medal for his heroic actions.</font><br />\n		<br />\n		<font face="MinionPro-Regular">Gaffaney\, a resident of San Diego\, had served over 20 years in the California National Guard and U.S. Navy\, </font><font face="MinionPro-Regular">and had retired from military service. He rejoined the armed forces in the Army Reserve to deploy to Iraq as a </font><font face="MinionPro-Regular">psychiatric nurse.</font><br />\n		<br />\n		<font face="MinionPro-Regular">Gaffaney&rsquo\;s name is among the 13 people on a memorial stone in the memorial garden at Fort Hood\, and one of </font><font face="MinionPro-Regular">five Army Reserve Soldiers killed in the attack. </font><br />\n		<br />\n		<font face="MinionPro-Regular">For his heroism and the example he set with his actions both on Nov. 5 and throughout his career\, the 2nd </font><font face="MinionPro-Regular">Medical Brigade of the 807th Medical Command\, requested that the Army Reserve Center in Garden Grove be </font><font face="MinionPro-Regular">dedicated as a memorial to Gaffaney. The center is home to six medical units of the 807th Medical Command.</font></span></p>\n</div>\n
LOCATION:Garden Grove Army Reserve Center 11751 Western Ave. Garden Grove\, CA
UID:e.1315.317
SEQUENCE:3
DTSTAMP:20260426T042351Z
URL:http://business.gardengrovechamber.com/events/details/capt-john-p-gaffaney-memorial-07-21-2012-317
END:VEVENT

END:VCALENDAR
