BEGIN:VCALENDAR
VERSION:2.0
PRODID:-//ChamberMaster//Event Calendar 2.0//EN
METHOD:PUBLISH
X-PUBLISHED-TTL:P3D
REFRESH-INTERVAL:P3D
CALSCALE:GREGORIAN
BEGIN:VEVENT
DTSTART:20171028T150000Z
DTEND:20171029T200000Z
X-MICROSOFT-CDO-ALLDAYEVENT:FALSE
SUMMARY:Central-West County Expo Hosted by: Senator Janet Nguyen
DESCRIPTION:Central-West County Expo\n\nHosted by:\n\nSenator Janet Nguyen\n\nCentral County Foundation\, Illumination Foundation\, Essilor Vision Foundation\, RAM\, Concorde College\, Coastline College\, California Department of Health Care Services\n\n\n\nFree Services Provided:\n\nVision Services (Adults and Children 6 years and older)\n\n    Eye Exams\n\n    Prescription Glasses\n\n    Non-Prescription Reading Glasses\n\nMedical Services\n\n    Flu Vaccines (available from 8:00 am to 1:00 pm) (Adults and children 3 years and older)\n\n    Screenings (Blood glucose) (Blood pressure)\n\n    Urgent Care\n\n    Women's Health Exam\n\n    Chiropractic Services    \n\n    Acupuncture\n\nDental Services\n\n    Cleanings\n\n    Fillings\n\n    Extractions\n\n\n\nAll Services are available in limited quantities and will be given on a first come\, first served basis.
X-ALT-DESC;FMTTYPE=text/html:Central-West County Expo<br />\nHosted by:<br />\nSenator Janet Nguyen<br />\nCentral County Foundation\, Illumination Foundation\, Essilor Vision Foundation\, RAM\, Concorde College\, Coastline College\, California Department of Health Care Services<br />\n<br />\n<em><strong>Free Services Provided:</strong></em><br />\n<u><strong>Vision Services</strong></u> (Adults and Children 6 years and older)<br />\n&nbsp\; &nbsp\; Eye Exams<br />\n&nbsp\; &nbsp\; Prescription Glasses<br />\n&nbsp\; &nbsp\; Non-Prescription Reading Glasses<br />\n<u><strong>Medical Services</strong></u><br />\n&nbsp\; &nbsp\; Flu Vaccines (available from 8:00 am to 1:00 pm) (Adults and children 3 years and older)<br />\n&nbsp\; &nbsp\; Screenings (Blood glucose) (Blood pressure)<br />\n&nbsp\; &nbsp\; Urgent Care<br />\n&nbsp\; &nbsp\; Women&#39\;s Health Exam<br />\n&nbsp\;&nbsp\;&nbsp\;&nbsp\;Chiropractic Services&nbsp\;&nbsp\;&nbsp\;&nbsp\;<br />\n&nbsp\;&nbsp\;&nbsp\;&nbsp\;Acupuncture<br />\n<u><strong>Dental Services</strong></u><br />\n&nbsp\; &nbsp\; Cleanings<br />\n&nbsp\; &nbsp\; Fillings<br />\n&nbsp\; &nbsp\; Extractions<br />\n<br />\nAll Services are available in limited quantities and will be given on a first come\, first served basis.&nbsp\;
LOCATION:Concorde College 12951 Euclid Street Garden Grove
UID:e.1315.6234
SEQUENCE:3
DTSTAMP:20260419T194454Z
URL:http://business.gardengrovechamber.com/events/details/central-west-county-expo-hosted-by-senator-janet-nguyen-6234
END:VEVENT

END:VCALENDAR
