BEGIN:VCALENDAR
VERSION:2.0
PRODID:-//ChamberMaster//Event Calendar 2.0//EN
METHOD:PUBLISH
X-PUBLISHED-TTL:P3D
REFRESH-INTERVAL:P3D
CALSCALE:GREGORIAN
BEGIN:VEVENT
DTSTART:20131015T183000Z
DTEND:20131015T200000Z
X-MICROSOFT-CDO-ALLDAYEVENT:FALSE
SUMMARY:Chamber Mixer
DESCRIPTION:"Good 'ole fashion mixer". Come\, network\, introduce and highlight your business. 1 free lunch per chamber member business. Highlighting "benefits of GGCC membership".
X-ALT-DESC;FMTTYPE=text/html:&quot\;Good &#39\;ole fashion mixer&quot\;. Come\, network\, introduce and highlight your business. 1 free lunch per chamber member business. Highlighting &quot\;benefits of GGCC membership&quot\;.
LOCATION:GGCC Office 12866 Main Street\, GG
UID:e.1315.1187
SEQUENCE:3
DTSTAMP:20260425T034226Z
URL:http://business.gardengrovechamber.com/events/details/chamber-mixer-10-15-2013-1187
END:VEVENT

END:VCALENDAR
