BEGIN:VCALENDAR
VERSION:2.0
PRODID:-//ChamberMaster//Event Calendar 2.0//EN
METHOD:PUBLISH
X-PUBLISHED-TTL:P3D
REFRESH-INTERVAL:P3D
CALSCALE:GREGORIAN
BEGIN:VEVENT
DTSTART:20150618T003000Z
DTEND:20150618T020000Z
X-MICROSOFT-CDO-ALLDAYEVENT:FALSE
SUMMARY:Chamber Mixer at Azteca Restaurant
DESCRIPTION:Join us at the famous Azteca Restaurant for our Monthly Chamber Mixer. There will be some great food and drinks to enjoy while networking with other business people. Be sure to bring lots of your business cards.\n\n\n\nPromote your business even further by bringing something to be raffled off.  If you are unable to attend\, you can bring your raffle item with your business card attached to the Chamber Office.
X-ALT-DESC;FMTTYPE=text/html:Join us at the famous Azteca Restaurant for our <strong>Monthly Chamber Mixer.</strong>&nbsp\;There will be some great food and drinks to enjoy while networking with other business people. Be sure to bring lots of your business cards.<br />\n<br />\n<strong style="line-height: 20.7999992370605px\;"><em>Promote your business even further by bringing something to be raffled off. &nbsp\;If you are unable to attend\, you can bring your raffle item with your business card attached to the Chamber Office.</em></strong>
LOCATION:Azteca Restaurant 12911 Main Street Garden Grove\, CA 92840
UID:e.1315.2931
SEQUENCE:3
DTSTAMP:20260423T204452Z
URL:http://business.gardengrovechamber.com/events/details/chamber-mixer-at-azteca-restaurant-06-17-2015-2931
END:VEVENT

END:VCALENDAR
