BEGIN:VCALENDAR
VERSION:2.0
PRODID:-//ChamberMaster//Event Calendar 2.0//EN
METHOD:PUBLISH
X-PUBLISHED-TTL:P3D
REFRESH-INTERVAL:P3D
CALSCALE:GREGORIAN
BEGIN:VEVENT
DTSTART:20150521T003000Z
DTEND:20150521T023000Z
X-MICROSOFT-CDO-ALLDAYEVENT:FALSE
SUMMARY:Chamber Mixer at Buca di Beppo
DESCRIPTION:Join us at Buca di Beppo for our Chamber Mixer.  Meet other business members and local officials while enjoying some great food and drink.  Be sure to bring lots of business cards for this networking event.\n\n\n\nPromote your business even further by bringing something to be raffled off.  If you are unable to attend\, you can bring your raffle item with your business card attached to the Chamber Office.\n\n\n\nRSVP's are required as space is limited!
X-ALT-DESC;FMTTYPE=text/html:Join us at Buca&nbsp\;di Beppo for our <strong>Chamber Mixer</strong>. &nbsp\;Meet other business members and local officials while enjoying some great food and drink. &nbsp\;Be sure to bring lots of business cards for this networking event.<br />\n<br />\n<strong><em>Promote your business even further by bringing something to be raffled off. &nbsp\;If you are unable to attend\, you can bring your raffle item with your business card attached to the Chamber Office.</em></strong><br />\n<br />\n<strong>RSVP&#39\;s are required as space is limited!</strong>
LOCATION:Buca di Beppo 11757 Harbor Blvd. Garden Grove\, CA 92840
UID:e.1315.2929
SEQUENCE:3
DTSTAMP:20260423T222427Z
URL:http://business.gardengrovechamber.com/events/details/chamber-mixer-at-buca-di-beppo-05-20-2015-2929
END:VEVENT

END:VCALENDAR
