BEGIN:VCALENDAR
VERSION:2.0
PRODID:-//ChamberMaster//Event Calendar 2.0//EN
METHOD:PUBLISH
X-PUBLISHED-TTL:P3D
REFRESH-INTERVAL:P3D
CALSCALE:GREGORIAN
BEGIN:VEVENT
DTSTART:20141120T013000Z
DTEND:20141120T030000Z
X-MICROSOFT-CDO-ALLDAYEVENT:FALSE
SUMMARY:Chamber Mixer at Marie Callender's
DESCRIPTION:Join us at our monthly Chamber Mixer hosted by Marie Callender's and enjoy some great food and drink.  Be sure to bring your business cards.  To promote your business even further\, bring an item to be donated at the end of the evening.
X-ALT-DESC;FMTTYPE=text/html:Join us at our monthly <em><strong>Chamber Mixer</strong> </em>hosted by <em><strong>Marie Callender's</strong></em> and enjoy some great food and drink. &nbsp\;Be sure to bring your business cards. &nbsp\;To promote your business even further\, bring an item to be donated at the end of the evening.
LOCATION:Marie Callender's 13252 Brookhurst Street Garden Grove\, Ca 92843
UID:e.1315.2237
SEQUENCE:3
DTSTAMP:20260424T073605Z
URL:http://business.gardengrovechamber.com/events/details/chamber-mixer-at-marie-callender-s-11-19-2014-2237
END:VEVENT

END:VCALENDAR
