BEGIN:VCALENDAR
VERSION:2.0
PRODID:-//ChamberMaster//Event Calendar 2.0//EN
METHOD:PUBLISH
X-PUBLISHED-TTL:P3D
REFRESH-INTERVAL:P3D
CALSCALE:GREGORIAN
BEGIN:VEVENT
DTSTART:20160519T003000Z
DTEND:20160519T020000Z
X-MICROSOFT-CDO-ALLDAYEVENT:FALSE
SUMMARY:Chamber Mixer at Tran Law Group
DESCRIPTION:Join us at Tran Law Group for our Monthly Chamber Mixer. Refreshments will be provided. Be sure to bring your business cards.\n\n\n\nPromote your business even further by bringing something to be raffled off.  If you are unable to attend\, you can bring your raffle item with your business card attached to the Chamber Office.
X-ALT-DESC;FMTTYPE=text/html:<span style="line-height: 20.8px\;">Join us at Tran Law Group for our&nbsp\;</span><strong style="line-height: 20.8px\;">Monthly Chamber Mixer.</strong><span style="line-height: 20.8px\;">&nbsp\;Refreshments will be provided. Be sure to bring your business cards.</span><br style="line-height: 20.8px\;" />\n<br style="line-height: 20.8px\;" />\n<strong style="line-height: 20.8px\;"><em>Promote your business even further by bringing something to be raffled off. &nbsp\;If you are unable to attend\, you can bring your raffle item with your business card attached to the Chamber Office.</em></strong>
LOCATION:Tran Law Group 12966 Euclid Street Suite 310 Garden Grove\, CA 92840
UID:e.1315.5397
SEQUENCE:3
DTSTAMP:20260420T214350Z
URL:http://business.gardengrovechamber.com/events/details/chamber-mixer-at-tran-law-group-05-18-2016-5397
END:VEVENT

END:VCALENDAR
