BEGIN:VCALENDAR
VERSION:2.0
PRODID:-//ChamberMaster//Event Calendar 2.0//EN
METHOD:PUBLISH
X-PUBLISHED-TTL:P3D
REFRESH-INTERVAL:P3D
CALSCALE:GREGORIAN
BEGIN:VEVENT
DTSTART:20151119T013000Z
DTEND:20151119T033000Z
X-MICROSOFT-CDO-ALLDAYEVENT:FALSE
SUMMARY:Chamber Mixer at West County Tire & Automotive\, Inc.
DESCRIPTION:Join us at West County Tire & Automotive\, Inc. for our Chamber Mixer.  Meet other business members and local officials while enjoying some great food and drink.  Be sure to bring lots of business cards for this networking event.\n\n\n\nPromote your business even further by bringing something to be raffled off.  If you are unable to attend\, you can bring your raffle item with your business card attached to the Chamber Office.
X-ALT-DESC;FMTTYPE=text/html:Join us at West County Tire &amp\; Automotive\, Inc.&nbsp\;for our <strong>Chamber Mixer</strong>. &nbsp\;Meet other business members and local officials while enjoying some great food and drink. &nbsp\;Be sure to bring lots of business cards for this networking event.<br />\n<br />\n<strong><em>Promote your business even further by bringing something to be raffled off. &nbsp\;If you are unable to attend\, you can bring your raffle item with your business card attached to the Chamber Office.</em></strong><br />\n<br />\n&nbsp\;
LOCATION:West County Tire & Automotive\, Inc. 421 W. Chapman Avenue Anaheim\, CA 92802
UID:e.1315.4700
SEQUENCE:3
DTSTAMP:20260423T134001Z
URL:http://business.gardengrovechamber.com/events/details/chamber-mixer-at-west-county-tire-automotive-inc-11-18-2015-4700
END:VEVENT

END:VCALENDAR
