BEGIN:VCALENDAR
VERSION:2.0
PRODID:-//ChamberMaster//Event Calendar 2.0//EN
METHOD:PUBLISH
X-PUBLISHED-TTL:P3D
REFRESH-INTERVAL:P3D
CALSCALE:GREGORIAN
BEGIN:VEVENT
DTSTART:20150129T153000Z
DTEND:20150129T163000Z
X-MICROSOFT-CDO-ALLDAYEVENT:FALSE
SUMMARY:Chamber Monthly Business Breakfast
DESCRIPTION:Join us at our first Chamber Monthly Business Breakfast. The topic will be Tax Breaks for Business & Manufacturers. Our Guest Speaker will be Jeff Malin from the Governor's office.
X-ALT-DESC;FMTTYPE=text/html:Join us at our first <strong><em>Chamber Monthly Business Breakfas</em></strong>t. The topic will be <span style="color:#FF0000\;"><em><strong>Tax Breaks for Business &amp\; Manufacturers</strong></em></span>. Our<span style="color:#0000CD\;"><strong> Guest Speaker</strong></span> will be <strong><span style="color:#0000CD\;">Jeff</span></strong> <span style="color:#0000CD\;"><strong>Malin</strong></span>&nbsp\;from the Governor&#39\;s office.
LOCATION:Marie Callender's Restaurant 13252 Brookhurst Street Garden Grove\, CA 92843
UID:e.1315.2289
SEQUENCE:3
DTSTAMP:20260424T044616Z
URL:http://business.gardengrovechamber.com/events/details/chamber-monthly-business-breakfast-01-29-2015-2289
END:VEVENT

END:VCALENDAR
