BEGIN:VCALENDAR
VERSION:2.0
PRODID:-//ChamberMaster//Event Calendar 2.0//EN
METHOD:PUBLISH
X-PUBLISHED-TTL:P3D
REFRESH-INTERVAL:P3D
CALSCALE:GREGORIAN
BEGIN:VEVENT
DTSTART:20141215T000000Z
DTEND:20141215T020000Z
X-MICROSOFT-CDO-ALLDAYEVENT:FALSE
SUMMARY:"Christmas Spectacular" at Strawberry Bowl!
DESCRIPTION:Strawberry Productions presents "Christmas Spectacular" with entertainment for the whole family.  There will be fun for all with music\, carolers\, dancing\, and Uniformed Marines. Santa will be there too and will read "Night Before Christmas".  Children will be invited to take pictures with Santa and his helper Olaf.\n\n\n\nThe show will start with "Toys for Tots" collection hosted by Uniformed Marines.  So bring an unwrapped toy and get ($5 off - one per family).\n\n\n\nAlso\, there will be a band consisting of 3 sets of siblings ages 7-15.
X-ALT-DESC;FMTTYPE=text/html:Strawberry Productions presents <span style="color:#FF0000\;"><em><strong>&quot\;Christmas Spectacular&quot\;</strong></em></span> with entertainment for the whole family. &nbsp\;There will be fun for all with music\, carolers\, dancing\, and Uniformed Marines. <span style="color:#FF0000\;"><strong><em>Santa</em></strong></span> will be there too and will read <span style="color:#FF0000\;"><strong><em>&quot\;Night Before Christmas&quot\;</em></strong></span>. &nbsp\;Children will be invited to take pictures with Santa and his helper Olaf.<br />\n<br />\nThe show will start with&nbsp\;<strong><em>&quot\;Toys for Tots&quot\;</em></strong>&nbsp\;collection hosted by Uniformed Marines. &nbsp\;So bring an unwrapped toy and get ($5 off - one per family).<br />\n<br />\nAlso\, there will be a band consisting of 3 sets of siblings ages 7-15.
LOCATION:Strawberry Bowl 12762 Main Street Garden Grove\, CA 92840
UID:e.1315.2277
SEQUENCE:3
DTSTAMP:20260424T061026Z
URL:http://business.gardengrovechamber.com/events/details/christmas-spectacular-at-strawberry-bowl-12-14-2014-2277
END:VEVENT

END:VCALENDAR
