BEGIN:VCALENDAR
VERSION:2.0
PRODID:-//ChamberMaster//Event Calendar 2.0//EN
METHOD:PUBLISH
X-PUBLISHED-TTL:P3D
REFRESH-INTERVAL:P3D
CALSCALE:GREGORIAN
BEGIN:VEVENT
DTSTART:20161116T193000Z
DTEND:20161116T222500Z
X-MICROSOFT-CDO-ALLDAYEVENT:FALSE
SUMMARY:Coastline Community College Career Fair
DESCRIPTION:Job Seekers: Looking for a job or relevant experience in your field? Come to the career fair and meet different employers. Bring 15-20 resumes and dress professionally as you may be interviewed and hired on the spot!\n\nQuestions? Want resume help? Set up an appointment. \n\n\n\nWe are seeking employers and businesses that are currently looking to fill positions with individuals of relevant work experience to participate in the Coastline Community College's Fall 2016 Career Fair\, to be held at our beautiful Employers: Newport Beach campus on Wednesday\, November 16\, 2016  from 11:30a.m. until 2:30 p.m.. Our goal is to provide a career fair to help our students and the community.  This event will be at no charge to the employers.  The following will be provided at the event: a six-foot table\, two chairs\, and two boxed meals. Tablecloths will not be provided.
X-ALT-DESC;FMTTYPE=text/html:<p><strong>Job Seekers:</strong> Looking for a job or relevant experience in your field? Come to the career fair and meet different employers. Bring 15-20 resumes and dress professionally as you may be interviewed and hired on the spot!<br />\nQuestions? Want resume help? Set up an appointment.&nbsp\;<br />\n<br />\nWe are seeking employers and businesses that are currently looking to fill positions with individuals of relevant work experience to participate in the Coastline Community College&rsquo\;s Fall 2016 Career Fair\, to be held at our beautiful <strong>Employers:</strong> Newport Beach campus on Wednesday\, November 16\, 2016 &nbsp\;from 11:30a.m. until 2:30 p.m.. Our goal is to provide a career fair to help our students and the community.&nbsp\; This event will be at <b><u>no charge</u></b> to the employers.&nbsp\; The following will be provided at the event: a six-foot table\, two chairs\, and two boxed meals. Tablecloths <u>will not</u> be provided.<o:p></o:p></p>\n
LOCATION:Newport Beach Center 1515 Monrovia Avenue Newport Beach\, CA 92663
UID:e.1315.5951
SEQUENCE:3
DTSTAMP:20260420T121039Z
URL:http://business.gardengrovechamber.com/events/details/coastline-community-college-career-fair-11-16-2016-5951
END:VEVENT

END:VCALENDAR
