BEGIN:VCALENDAR
VERSION:2.0
PRODID:-//ChamberMaster//Event Calendar 2.0//EN
METHOD:PUBLISH
X-PUBLISHED-TTL:P3D
REFRESH-INTERVAL:P3D
CALSCALE:GREGORIAN
BEGIN:VEVENT
DTSTART:20170322T183000Z
DTEND:20170322T213000Z
X-MICROSOFT-CDO-ALLDAYEVENT:FALSE
SUMMARY:Coastline Community College Career Fair 3-22-17
DESCRIPTION:The Career Center at Coastline Community College has a wonderful opportunity for your business/organization to participate in the Coastline Community College Career Fair at Newport Beach being held on March 22\, 2017. \n\nThis event is FREE to employers! The purpose of the career fair is to connect employers with students. Employers may interview and recruit students for job\, internship\, or volunteer opportunities. \n\nFurthermore\, you can promote your business/organization and provide students more information about your industry for career exploration.
X-ALT-DESC;FMTTYPE=text/html:The Career Center at Coastline Community College has a wonderful opportunity for your&nbsp\;business/organization to participate in the Coastline Community College Career Fair at&nbsp\;Newport Beach being held on March 22\, 2017.&nbsp\;<br />\nThis event is FREE to employers! The purpose of the career fair is to connect employers with students. Employers may interview and recruit students for job\, internship\, or&nbsp\;volunteer opportunities.&nbsp\;<br />\nFurthermore\, you can promote your business/organization and provide students more information about your industry for career exploration.&nbsp\;
LOCATION:Newport Beach Center 1515 Monrovia Avenue Newport Beach\, CA 92663
UID:e.1315.6063
SEQUENCE:3
DTSTAMP:20260420T061248Z
URL:http://business.gardengrovechamber.com/events/details/coastline-community-college-career-fair-3-22-17-6063
END:VEVENT

END:VCALENDAR
